BEGIN:VCALENDAR
VERSION:2.0
PRODID:-//ChamberMaster//Event Calendar 2.0//EN
METHOD:PUBLISH
X-PUBLISHED-TTL:P3D
REFRESH-INTERVAL:P3D
CALSCALE:GREGORIAN
BEGIN:VEVENT
DTSTART:20101201T013000Z
DTEND:20101201T050000Z
X-MICROSOFT-CDO-ALLDAYEVENT:FALSE
SUMMARY:Heart of the Holidays
DESCRIPTION:Kick off the season with an evening of VIP shopping - and contribute to a good cause too. With the purchase of your $10 Heart of the Holidays ticket (available at Guildford Town Centre Customer Service)\, you will receive a Holiday  Swag Bag full of goodies (valued at over $10) plus a wristband that makes you elibible for prize draws\, tasty treats\, one-night-only deals and more. All proceeds from ticket and raffle sales got to the Surrey Memorial Hospital Foundation.\n\n\n\nComplimentary Valet Parking 5:30-9pm at the Bread Garden entrance.
X-ALT-DESC;FMTTYPE=text/html:Kick off the season with an evening of VIP shopping - and contribute to a good cause too. With the purchase of your $10 Heart of the Holidays ticket (available at Guildford Town Centre Customer Service)\, you will receive a Holiday  Swag Bag full of goodies (valued at over $10) plus a wristband that makes you elibible for prize draws\, tasty treats\, one-night-only deals and more. All proceeds from ticket and raffle sales got to the Surrey Memorial Hospital Foundation.\n<br>\n<br>Complimentary Valet Parking 5:30-9pm at the Bread Garden entrance.
LOCATION:Guildford Town Centre. Pick up your wristband adjacent to Customer Service (upper level next to Bowrings).
UID:e.749.1744
SEQUENCE:3
DTSTAMP:20260422T123458Z
URL:https://business.businessinsurrey.com/events/details/heart-of-the-holidays-11-30-2010-1744
END:VEVENT

END:VCALENDAR
