BEGIN:VCALENDAR
VERSION:2.0
PRODID:-//ChamberMaster//Event Calendar 2.0//EN
METHOD:PUBLISH
X-PUBLISHED-TTL:P3D
REFRESH-INTERVAL:P3D
CALSCALE:GREGORIAN
BEGIN:VEVENT
DTSTART:20101118T203000Z
DTEND:20101118T231500Z
X-MICROSOFT-CDO-ALLDAYEVENT:FALSE
SUMMARY:Harmonized System Tariff & Classification Workshop
DESCRIPTION:Pacific Customs Brokers is offering a workshop on HS Tariff & Classification. This session will focus on the Harmonized Tariff and will be of interest to: Business Owners\, Managers\, Purchasers and Shippers related to importing all commercial goods into either Canada or the United States. This seminar will provide you with a solid foundation in the principles of commodity classification\, along with information on obtaining binding rulings from Customs on your merchandise. You will also have a better understanding of how duties are determined and how certain Special Programs may assist you in lowering the duties that your business pays for imported goods.\n\n	 \n\n	Date\, Times and Location:\n\n	 \n\n	Pacific Customs Brokers - Seminar Room (101-17637 1st Avenue\, Surrey)\n\n	 \n\n	Thursday\, November 18\, 2010\; 9am - 3:15pm - HS Tariff & Classification\n\n	 \n\n	Registration Information:\n\n	 \n\n	Seminar Fee: The cost for the session is $145 CAD per person. Lunch is served at 12pm.\n\n	 \n\n	Register Online: www.pcb.ca/seminars\n\n	 \n\n	Contact Information: \n\n	Yvette Fox at Pacific Customs Brokers\n\n	Phone 604.538.1566\n\n	Fax 604.531.3120\n\n	Email seminars@pcb.ca\n\n	 \n\n	Registration Deadline: Monday\, November 15\, 2010
X-ALT-DESC;FMTTYPE=text/html:<div>\n	Pacific Customs Brokers is offering a workshop on HS Tariff &amp\; Classification. This session will focus on the Harmonized Tariff and will be of interest to: Business Owners\, Managers\, Purchasers and Shippers related to importing all commercial goods into either Canada or the United States. This seminar will provide you with a solid foundation in the principles of commodity classification\, along with information on obtaining binding rulings from Customs on your merchandise. You will also have a better understanding of how duties are determined and how certain Special Programs may assist you in lowering the duties that your business pays for imported goods.</div>\n<div>\n	&nbsp\;</div>\n<div>\n	Date\, Times and Location:</div>\n<div>\n	&nbsp\;</div>\n<div>\n	Pacific Customs Brokers - Seminar Room (101-17637 1st Avenue\, Surrey)</div>\n<div>\n	&nbsp\;</div>\n<div>\n	Thursday\, November 18\, 2010\; 9am - 3:15pm - HS Tariff &amp\; Classification</div>\n<div>\n	&nbsp\;</div>\n<div>\n	<strong>Registration Information:</strong></div>\n<div>\n	&nbsp\;</div>\n<div>\n	Seminar Fee: The cost for the session is $145 CAD per person. Lunch is served at 12pm.</div>\n<div>\n	&nbsp\;</div>\n<div>\n	Register Online: <a href="http://www.pcb.ca/seminars" target="_blank">www.pcb.ca/seminars</a></div>\n<div>\n	&nbsp\;</div>\n<div>\n	Contact Information:&nbsp\;</div>\n<div>\n	Yvette Fox at Pacific Customs Brokers</div>\n<div>\n	Phone 604.538.1566</div>\n<div>\n	Fax 604.531.3120</div>\n<div>\n	Email <a href="http://mailto:seminars@pcb.ca">seminars@pcb.ca</a></div>\n<div>\n	&nbsp\;</div>\n<div>\n	Registration Deadline: Monday\, November 15\, 2010</div>\n
LOCATION:Pacific Customs Brokers - Seminar Room (101-17637 1st Avenue\, Surrey)
UID:e.749.1703
SEQUENCE:3
DTSTAMP:20260422T120424Z
URL:https://business.businessinsurrey.com/events/details/harmonized-system-tariff-classification-workshop-11-18-2010-1703
END:VEVENT

END:VCALENDAR
