BEGIN:VCALENDAR
VERSION:2.0
PRODID:-//ChamberMaster//Event Calendar 2.0//EN
METHOD:PUBLISH
X-PUBLISHED-TTL:P3D
REFRESH-INTERVAL:P3D
CALSCALE:GREGORIAN
BEGIN:VEVENT
DTSTART:20160212T170000Z
DTEND:20160215T000000Z
X-MICROSOFT-CDO-ALLDAYEVENT:FALSE
SUMMARY:Harmonized LLQP: Life Licence Qualification Program
DESCRIPTION:Join a 3-day review session with industry professionals to develop practical skills to pass the provincial harmonized LLQP licensing exam. Taking the LLQP at Ashton College allows you to review the materials and learn from industry professionals with years of experience in their field. The program reviews the 4 separate modules needed to write the LLQP licensing exam\, and it takes place over 3 days\, starting February 12: Fri (9am-5pm)\, Sat (8am-5pm) & Sun (9am-4pm). Topics covered: - Life Insurance\; - Accident and Sickness Insurance\; - Segregated Funds and Annuities\; - Ethics and Professional Practice (Common Law). Additional information: a 3-week online review program for the harmonized LLQP is also available at Ashton College.
X-ALT-DESC;FMTTYPE=text/html:Join a 3-day review session with industry professionals to develop practical skills to pass the provincial harmonized LLQP licensing exam. Taking the LLQP at Ashton College allows you to review the materials and learn from industry professionals with years of experience in their field. The program reviews the 4 separate modules needed to write the LLQP licensing exam\, and it takes place over 3 days\, starting February 12: Fri (9am-5pm)\, Sat (8am-5pm) &amp\; Sun (9am-4pm). Topics covered: - Life Insurance\; - Accident and Sickness Insurance\; - Segregated Funds and Annuities\; - Ethics and Professional Practice (Common Law). Additional information: a 3-week online review program for the harmonized LLQP is also available at Ashton College.
LOCATION:Ashton College: 1190 Melville St\, Vancouver\, BC V6E 3W1
UID:e.749.4822
SEQUENCE:3
DTSTAMP:20260424T035344Z
URL:https://business.businessinsurrey.com/events/details/harmonized-llqp-life-licence-qualification-program-02-12-2016-4822
END:VEVENT

END:VCALENDAR
