BEGIN:VCALENDAR
VERSION:2.0
PRODID:-//ChamberMaster//Event Calendar 2.0//EN
METHOD:PUBLISH
X-PUBLISHED-TTL:P3D
REFRESH-INTERVAL:P3D
CALSCALE:GREGORIAN
BEGIN:VEVENT
DTSTART:20160225T170000Z
DTEND:20160225T233000Z
X-MICROSOFT-CDO-ALLDAYEVENT:FALSE
SUMMARY:H.S. Tariff Classification Workshop
DESCRIPTION:
X-ALT-DESC;FMTTYPE=text/html:
LOCATION:Pacific Customs Brokers\, 17637 1st Avenue\, Surrey\, BC
UID:e.749.4786
SEQUENCE:3
DTSTAMP:20260424T023243Z
URL:https://business.businessinsurrey.com/events/details/h-s-tariff-classification-workshop-02-25-2016-4786
END:VEVENT

END:VCALENDAR
