BEGIN:VCALENDAR
VERSION:2.0
PRODID:-//ChamberMaster//Event Calendar 2.0//EN
METHOD:PUBLISH
X-PUBLISHED-TTL:P3D
REFRESH-INTERVAL:P3D
CALSCALE:GREGORIAN
BEGIN:VEVENT
DTSTART:20160611T163000Z
DTEND:20160611T210000Z
X-MICROSOFT-CDO-ALLDAYEVENT:FALSE
SUMMARY:Grandparents Day
DESCRIPTION:Join us in celebrating the assets of our community Grandparents June 11\, 2016 at the White Rock Community Centre 15154 Russell Ave. Let's build family memories together at the event which will offer entertainment\, food\, activities for the children and as a take away a family photo at our photo booth. Your free ticket covers the cost of all the above. Your early bird tickets can be purchased through: https://www.eventbrite.ca/e/grandparents-day-tickets-24687817928 Children 5 and younger free.
X-ALT-DESC;FMTTYPE=text/html:Join us in celebrating the assets of our community Grandparents June 11\, 2016 at the White Rock Community Centre 15154 Russell Ave. Let&#39\;s build family memories together at the event which will offer entertainment\, food\, activities for the children and as a take away a family photo at our photo booth. Your free ticket covers the cost of all the above. Your early bird tickets can be purchased through: https://www.eventbrite.ca/e/grandparents-day-tickets-24687817928 Children 5 and younger free.
LOCATION:White Rock Community Centre 15154 Russell Ave
UID:e.749.4934
SEQUENCE:3
DTSTAMP:20260424T083339Z
URL:https://business.businessinsurrey.com/events/details/grandparents-day-06-11-2016-4934
END:VEVENT

END:VCALENDAR
