BEGIN:VCALENDAR
VERSION:2.0
PRODID:-//ChamberMaster//Event Calendar 2.0//EN
METHOD:PUBLISH
X-PUBLISHED-TTL:P3D
REFRESH-INTERVAL:P3D
CALSCALE:GREGORIAN
BEGIN:VEVENT
DTSTART:20150319T223000Z
DTEND:20150320T023000Z
X-MICROSOFT-CDO-ALLDAYEVENT:FALSE
SUMMARY:Grand Opening
DESCRIPTION:You are invited to our Grand Opening\nThe Surrey Business Services and Training Co-op is a cooperative group of self employed individuals\, businesses and community organizations working in Surrey. Members collaborate through coop membership to share overhead expenses of professional offices\, administrative support\, office equipment\, business support\, meeting and training space.  For as little as $500.00 per month you can rent a fully furnished office\, complete with Wi-Fi. For more information Please call Mary at 778-838-2714 or Anter at 604-807-3511. Or better still join us for our open house.  Light refreshments will be served.
X-ALT-DESC;FMTTYPE=text/html:<p align="center" class="ecxMsoNormal" style="line-height: 26px\; margin-top: 0px\; margin-right: 0px\; margin-bottom: 1.35em\; margin-left: 0px\; color: rgb(0\, 0\, 0)\; font-family: arial\, helvetica\, sans-serif\; font-size: 14pt\; text-align: center\; "><b style="line-height: 26px\; font-weight: bold\; "><i style="line-height: 26px\; font-style: italic\; "><span style="line-height: 33px\; font-size: 22pt\; font-family: 'Arial Black'\, sans-serif\; color: rgb(0\, 112\, 192)\; ">You are invited to our Grand Opening</span></i></b></p>\n<strong style="line-height: 26px\; font-weight: bold\; "><span style="line-height: 22px\; font-size: 12pt\; font-family: 'Arial Black'\, sans-serif\; color: windowtext\; font-weight: normal\; ">The Surrey Business Services and Training Co-op is a cooperative group of self employed individuals\, businesses and community organizations working in Surrey. Members collaborate through coop membership to share overhead expenses of professional offices\, administrative support\, office equipment\, business support\, meeting and training space.&nbsp\; For as little as $500.00 per month you can rent a fully furnished office\, complete with Wi-Fi. For more information Please call Mary at 778-838-2714 or Anter at 604-807-3511. Or better still join us for our open house.&nbsp\; Light refreshments will be served.</span></strong>
LOCATION:13588 88 Avenue\, Second Floor\, Surrey
UID:e.749.3341
SEQUENCE:3
DTSTAMP:20260423T090432Z
URL:https://business.businessinsurrey.com/events/details/grand-opening-03-19-2015-3341
END:VEVENT

END:VCALENDAR
