BEGIN:VCALENDAR
VERSION:2.0
PRODID:-//ChamberMaster//Event Calendar 2.0//EN
METHOD:PUBLISH
X-PUBLISHED-TTL:P3D
REFRESH-INTERVAL:P3D
CALSCALE:GREGORIAN
BEGIN:VEVENT
DTSTART;VALUE=DATE:20151201
DTEND;VALUE=DATE:20151202
TRANSP:TRANSPARENT
X-MICROSOFT-CDO-ALLDAYEVENT:TRUE
SUMMARY:Giving Tuesday 2015
DESCRIPTION:On Giving Tuesday\, December 1st\, help the Burns Bog Conservation Foundation by giving a donation. All proceeds go towards the construction of a Burns Bog Nature Center to educate the public and conduct research on how best to ensure the continued survival of the largest raised peat bog in British Columbia for future generations to enjoy.\n\n\n\nDepending on your gift\, you will receive:\n\n \n\n\n	$100   An Adopt-an-Animal Certificate (includes certificate and fact sheet in a document cover)\n	$500   Holiday Bog-themed Greeting Cards (perfect for Christmas\, Hanukkah or Kwanzaa)\n	$1000+   A personalized card & gift for someone special (that could be you!)\n	Your choice $___ - An exclusive bookmark to use in your favourite book.
X-ALT-DESC;FMTTYPE=text/html:<div style="margin: 0px\; padding: 0px\; box-sizing: border-box\; font-family: 'Open Sans'\; font-size: 14px\; line-height: 20px\;">On Giving Tuesday\, December 1st\, help the Burns Bog Conservation Foundation by giving a donation. All proceeds go towards the construction of a Burns Bog Nature Center to educate the public and conduct research on how best to ensure the continued survival of the largest raised peat bog in British Columbia for future generations to enjoy.<br />\n<br />\nDepending on your gift\, you will receive:</div>\n\n<div style="margin: 0px\; padding: 0px\; box-sizing: border-box\; font-family: 'Open Sans'\; font-size: 14px\; line-height: 20px\;">&nbsp\;</div>\n\n<ul style="margin: 0px 0px 10px\; padding-right: 0px\; padding-left: 0px\; box-sizing: border-box\; font-family: 'Open Sans'\; font-size: 14px\; line-height: 20px\;">\n	<li style="margin: 0px\; padding: 0px\; box-sizing: border-box\; list-style: none\;">$100 &ndash\; An Adopt-an-Animal Certificate (includes certificate and fact sheet in a document cover)</li>\n	<li style="margin: 0px\; padding: 0px\; box-sizing: border-box\; list-style: none\;">$500 &ndash\; Holiday Bog-themed Greeting Cards (perfect for Christmas\, Hanukkah or Kwanzaa)</li>\n	<li style="margin: 0px\; padding: 0px\; box-sizing: border-box\; list-style: none\;">$1000+ &ndash\; A personalized card &amp\; gift for someone special (that could be you!)</li>\n	<li style="margin: 0px\; padding: 0px\; box-sizing: border-box\; list-style: none\;">Your choice $___ - An exclusive bookmark to use in your favourite book.</li>\n</ul>\n
LOCATION:Burns Bog Conservation Foundation\; 4-7953 120 Street\, Delta\, BC\; V4C 6P6
UID:e.749.3723
SEQUENCE:3
DTSTAMP:20260423T232507Z
URL:https://business.businessinsurrey.com/events/details/giving-tuesday-2015-12-01-2015-3723
END:VEVENT

END:VCALENDAR
