BEGIN:VCALENDAR
VERSION:2.0
PRODID:-//ChamberMaster//Event Calendar 2.0//EN
METHOD:PUBLISH
X-PUBLISHED-TTL:P3D
REFRESH-INTERVAL:P3D
CALSCALE:GREGORIAN
BEGIN:VEVENT
DTSTART:20110202T020000Z
DTEND:20110202T060000Z
X-MICROSOFT-CDO-ALLDAYEVENT:FALSE
SUMMARY:Girls Night Out
DESCRIPTION:Fund Raiser for Sorptimist ReStart Program which helps women that are leaving a transition home after an abusive relationship\, we provide them with new kits to set up a new home for them and thier kids.  Kits include kitcheware\, bedding\, towels\, bathroom accesories\, and kids toys and clothing if need be\, all brand new.
X-ALT-DESC;FMTTYPE=text/html:Fund Raiser for Sorptimist ReStart Program which helps women that are leaving a transition home after an abusive relationship\, we provide them with new kits to set up a new home for them and thier kids.  Kits include kitcheware\, bedding\, towels\, bathroom accesories\, and kids toys and clothing if need be\, all brand new.
LOCATION:U-Lounge\, #10-16051 24th Avenue\, Surrey. 604-542-8580
UID:e.749.1766
SEQUENCE:3
DTSTAMP:20260422T094234Z
URL:https://business.businessinsurrey.com/events/details/girls-night-out-02-01-2011-1766
END:VEVENT

END:VCALENDAR
