BEGIN:VCALENDAR
VERSION:2.0
PRODID:-//ChamberMaster//Event Calendar 2.0//EN
METHOD:PUBLISH
X-PUBLISHED-TTL:P3D
REFRESH-INTERVAL:P3D
CALSCALE:GREGORIAN
BEGIN:VEVENT
DTSTART:20110119T014500Z
DTEND:20110119T043000Z
X-MICROSOFT-CDO-ALLDAYEVENT:FALSE
SUMMARY:FVEPC Dinner Meeting
DESCRIPTION:The Fraser Valley Estate Planning Council (www.fvepc.com) invites professionals from financial and estate planning fields to the January 18 dinner meeting.\n\n\n\nDavid Turchen and Katri Ulmonen of MacKay LLP will speak on "US Estate Tax and Cross Border Issues."\n\n\n\nTime: 5:45PM   8:30PM\n\nLocation: Eaglequest Golf Center (7778 - 152nd St.\, Surrey)\n\nAdmission: RSVP to LDaschuk@telus.net. Cost: $30 (first time only)\, $55 thereafter. New members welcome.
X-ALT-DESC;FMTTYPE=text/html:The Fraser Valley Estate Planning Council (<a href="http://www.fvepc.com" target="_blank">www.fvepc.com</a>) invites professionals from financial and estate planning fields to the January 18 dinner meeting.<br />\n<br />\nDavid Turchen and Katri Ulmonen of MacKay LLP will speak on &ldquo\;US Estate Tax and Cross Border Issues.&rdquo\;<br />\n<br />\n<strong>Time</strong>: 5:45PM &ndash\; 8:30PM<br />\n<strong>Location</strong>: Eaglequest Golf Center (7778 - 152nd St.\, Surrey)<br />\n<strong>Admission</strong>: RSVP to <a href="http://mailto:LDaschuk@telus.net">LDaschuk@telus.net</a>. Cost: $30 (first time only)\, $55 thereafter. New members welcome.
LOCATION:Eaglequest Golf Center (7778 - 152nd St.\, Surrey)
UID:e.749.1760
SEQUENCE:3
DTSTAMP:20260422T110249Z
URL:https://business.businessinsurrey.com/events/details/fvepc-dinner-meeting-01-18-2011-1760
END:VEVENT

END:VCALENDAR
