BEGIN:VCALENDAR
VERSION:2.0
PRODID:-//ChamberMaster//Event Calendar 2.0//EN
METHOD:PUBLISH
X-PUBLISHED-TTL:P3D
REFRESH-INTERVAL:P3D
CALSCALE:GREGORIAN
BEGIN:VEVENT
DTSTART:20101117T014500Z
DTEND:20101117T043000Z
X-MICROSOFT-CDO-ALLDAYEVENT:FALSE
SUMMARY:FVEPC Dinner - Life Planning
DESCRIPTION:The Fraser Valley Estate Planning Council (www.fvepc.com) invites professionals from financial and estate planning fields to their November 16 dinner meeting.\n\n \n\nCarri Hoffmann of Fraser Health will speak on "End of Life Planning: Advance Care Plans."\n\n \n\nTime: 5:45PM   8:30PM\n\nLocation: Eaglequest Golf Center (Coyote Creek) 7778 - 152nd St\, Surrey.\n\nAdmission: RSVP to LDaschuk@telus.net. Cost: $30 (first time only)\, $55 thereafter. New members welcome.
X-ALT-DESC;FMTTYPE=text/html:<span style="font-size:12px\;"><span style="font-family:arial\;">The Fraser Valley Estate Planning Council (<a href="http://www.fvepc.com" target="_blank">www.fvepc.com</a>) invites professionals from financial and estate planning fields to their November 16 dinner meeting.<br />\n&nbsp\;<br />\nCarri Hoffmann of Fraser Health will speak on &ldquo\;End of Life Planning: Advance Care Plans.&rdquo\;<br />\n&nbsp\;<br />\n<strong>Time</strong>: 5:45PM &ndash\; 8:30PM<br />\n<strong>Location</strong>: Eaglequest Golf Center (Coyote Creek) 7778 - 152nd St\, Surrey.<br />\n<strong>Admission</strong>: RSVP to LDaschuk@telus.net. Cost: $30 (first time only)\, $55 thereafter. New members welcome.</span></span>
LOCATION:Eaglequest Golf Center (Coyote Creek) 7778 - 152nd St\, Surrey
UID:e.749.1700
SEQUENCE:3
DTSTAMP:20260422T120620Z
URL:https://business.businessinsurrey.com/events/details/fvepc-dinner-life-planning-11-16-2010-1700
END:VEVENT

END:VCALENDAR
