BEGIN:VCALENDAR
VERSION:2.0
PRODID:-//ChamberMaster//Event Calendar 2.0//EN
METHOD:PUBLISH
X-PUBLISHED-TTL:P3D
REFRESH-INTERVAL:P3D
CALSCALE:GREGORIAN
BEGIN:VEVENT
DTSTART:20160921T004500Z
DTEND:20160921T033000Z
X-MICROSOFT-CDO-ALLDAYEVENT:FALSE
SUMMARY:Fraser Valley Estate Planning Council Dinner Meeting
DESCRIPTION:The Fraser Valley Estate Planning Council invites professionals from financial and estate planning fields to a dinner meeting with Mark Jasayko\, MBA\,CFA\, TD Private Wealth Management. Mark will speak on the topic\, "An Investor's Guide to Averting Economic Catastrophe."
X-ALT-DESC;FMTTYPE=text/html:The Fraser Valley Estate Planning Council invites professionals from financial and estate planning fields to a dinner meeting with Mark Jasayko\, MBA\,CFA\, TD Private Wealth Management. Mark will speak on the topic\, &quot\;An Investor&rsquo\;s Guide to Averting Economic Catastrophe.&quot\;
LOCATION:Guildford Golf and Country Club 7929 152 Street\, Surrey
UID:e.749.5127
SEQUENCE:3
DTSTAMP:20260424T040242Z
URL:https://business.businessinsurrey.com/events/details/fraser-valley-estate-planning-council-dinner-meeting-09-20-2016-5127
END:VEVENT

END:VCALENDAR
