BEGIN:VCALENDAR
VERSION:2.0
PRODID:-//ChamberMaster//Event Calendar 2.0//EN
METHOD:PUBLISH
X-PUBLISHED-TTL:P3D
REFRESH-INTERVAL:P3D
CALSCALE:GREGORIAN
BEGIN:VEVENT
DTSTART:20150916T004500Z
DTEND:20150916T033000Z
X-MICROSOFT-CDO-ALLDAYEVENT:FALSE
SUMMARY:Fraser Valley Estate Planning Council Dinner Meeting
DESCRIPTION:Ryan Howe\, Associate\, Alexander Holburn Beaudin+Lang LLP Digital Legacy.\n\nThis presentation will cover the topic of digital assets and their treatment for the purposes of estate planning and administration. Attendees will be provided with best practices for dealing with digital assets and will gain a better understanding of the myriad of issues (legal and otherwise) which affect digital assets.
X-ALT-DESC;FMTTYPE=text/html:Ryan Howe\, Associate\, Alexander Holburn Beaudin+Lang LLP Digital Legacy.<br />\nThis presentation will cover the topic of digital assets and their treatment for the purposes of estate planning and administration. Attendees will be provided with best practices for dealing with digital assets and will gain a better understanding of the myriad of issues (legal and otherwise) which affect digital assets.
LOCATION:Eaglequest Golf Centre (Coyote Creek) 7778 ? 152nd Street
UID:e.749.3660
SEQUENCE:3
DTSTAMP:20260423T201242Z
URL:https://business.businessinsurrey.com/events/details/fraser-valley-estate-planning-council-dinner-meeting-09-15-2015-3660
END:VEVENT

END:VCALENDAR
