BEGIN:VCALENDAR
VERSION:2.0
PRODID:-//ChamberMaster//Event Calendar 2.0//EN
METHOD:PUBLISH
X-PUBLISHED-TTL:P3D
REFRESH-INTERVAL:P3D
CALSCALE:GREGORIAN
BEGIN:VEVENT
DTSTART:20160518T004500Z
DTEND:20160518T033000Z
X-MICROSOFT-CDO-ALLDAYEVENT:FALSE
SUMMARY:Fraser Valley Estate Planning Council Dinner Meeting
DESCRIPTION:Colleen Fish\, Bio Recovery Technician\, with 1st Trauma Scene Clean Up\, will speak on the topic of Hoarding & Trauma Scene Clean Up. An unusual Executor's duty that arises more often than you think!
X-ALT-DESC;FMTTYPE=text/html:Colleen Fish\, Bio Recovery Technician\, with 1st Trauma Scene Clean Up\, will speak on the topic of Hoarding &amp\; Trauma Scene Clean Up. An unusual Executor&#39\;s duty that arises more often than you think!
LOCATION:Eaglequest Golf Centre (Coyote Creek) 7778 - 152nd Street in Surrey
UID:e.749.4935
SEQUENCE:3
DTSTAMP:20260424T070550Z
URL:https://business.businessinsurrey.com/events/details/fraser-valley-estate-planning-council-dinner-meeting-05-17-2016-4935
END:VEVENT

END:VCALENDAR
