BEGIN:VCALENDAR
VERSION:2.0
PRODID:-//ChamberMaster//Event Calendar 2.0//EN
METHOD:PUBLISH
X-PUBLISHED-TTL:P3D
REFRESH-INTERVAL:P3D
CALSCALE:GREGORIAN
BEGIN:VEVENT
DTSTART:20160120T014500Z
DTEND:20160120T043000Z
X-MICROSOFT-CDO-ALLDAYEVENT:FALSE
SUMMARY:Fraser Valley Estate Planning Council Dinner Meeting
DESCRIPTION:The Fraser Valley Estate Planning Council (www.fvepc.com) invites professionals from financial and estate planning fields to the Tuesday\, January 19th dinner meeting. Som Seif\, founder and Chief Executive Officer of Purpose Investments Inc. will speak on the topic of\, "Economic Update."
X-ALT-DESC;FMTTYPE=text/html:The Fraser Valley Estate Planning Council (www.fvepc.com) invites professionals from financial and estate planning fields to the Tuesday\, January 19th dinner meeting. Som Seif\, founder and Chief Executive Officer of Purpose Investments Inc. will speak on the topic of\, &quot\;Economic Update.&quot\;
LOCATION:Eaglequest Golf Centre (Coyote Creek) 7778 152nd Street in Surrey
UID:e.749.4776
SEQUENCE:3
DTSTAMP:20260424T011546Z
URL:https://business.businessinsurrey.com/events/details/fraser-valley-estate-planning-council-dinner-meeting-01-19-2016-4776
END:VEVENT

END:VCALENDAR
