BEGIN:VCALENDAR
VERSION:2.0
PRODID:-//ChamberMaster//Event Calendar 2.0//EN
METHOD:PUBLISH
X-PUBLISHED-TTL:P3D
REFRESH-INTERVAL:P3D
CALSCALE:GREGORIAN
BEGIN:VEVENT
DTSTART:20151118T014500Z
DTEND:20151118T043000Z
X-MICROSOFT-CDO-ALLDAYEVENT:FALSE
SUMMARY:Fraser Valley Estate Planning Council
DESCRIPTION:Jane Purdie\, Q.C.\, Barrister and Solicitor at Hambrook Law Corporation will speak on the topic of\, "Elder Issues When Advising the Family." Capacity\, confidentiality\, conflicts and who is the client. Discussion and practical advice on how to handle these difficult issues.
X-ALT-DESC;FMTTYPE=text/html:Jane Purdie\, Q.C.\, Barrister and Solicitor at Hambrook Law Corporation will speak on the topic of\, &quot\;Elder Issues When Advising the Family.&quot\; Capacity\, confidentiality\, conflicts and who is the client. Discussion and practical advice on how to handle these difficult issues.
LOCATION:Eaglequest Golf Centre (Coyote Creek) 7778 152nd Street in Surrey
UID:e.749.3706
SEQUENCE:3
DTSTAMP:20260423T232722Z
URL:https://business.businessinsurrey.com/events/details/fraser-valley-estate-planning-council-11-17-2015-3706
END:VEVENT

END:VCALENDAR
