BEGIN:VCALENDAR
VERSION:2.0
PRODID:-//ChamberMaster//Event Calendar 2.0//EN
METHOD:PUBLISH
X-PUBLISHED-TTL:P3D
REFRESH-INTERVAL:P3D
CALSCALE:GREGORIAN
BEGIN:VEVENT
DTSTART:20160412T150000Z
DTEND:20160412T160000Z
X-MICROSOFT-CDO-ALLDAYEVENT:FALSE
SUMMARY:Financial Survival for Entrepreneurs Workshop
DESCRIPTION:So you've made it over the first few hurdles\; now what? This session helps 3 years of operation with issues such as managing growth and expansion\, key numbers to understand\, financing for the "big league" and tax.\n\n\n\nAt this workshop\, you will learn about:\n\n\n\n  Understand the management of growth and expansion\n\n  Identify the key numbers to understand and monitor\n\n  Tactics for getting financing\n\n  Effective tax strategies.\n\n\n\nThis workshop is presented by Dan Effa\, CPA\, CA\, CCP.\n\n\n\nA CPA for almost three decades\, Dan spent a number of years not only in corporate Canada\, but also as a business owner and a financing expert.\n\nWith a passion for helping people\, Dan is currently Principal of Effa Consulting\, helping business leaders make better decisions - particularly in strategy and post-acquisition/merger.\n\nwww.effaconsulting.com
X-ALT-DESC;FMTTYPE=text/html:So you&rsquo\;ve made it over the first few hurdles\; now what? This session helps 3 years of operation with issues such as managing growth and expansion\, key numbers to understand\, financing for the &ldquo\;big league&rdquo\; and tax.<br />\n<br />\nAt this workshop\, you will learn about:<br />\n<br />\n&bull\; Understand the management of growth and expansion<br />\n&bull\; Identify the key numbers to understand and monitor<br />\n&bull\; Tactics for getting financing<br />\n&bull\; Effective tax strategies.<br />\n<br />\n<strong>This workshop is presented by Dan Effa\, CPA\, CA\, CCP.</strong><br />\n<br />\nA CPA for almost three decades\, Dan spent a number of years not only in corporate Canada\, but also as a business owner and a financing expert.<br />\nWith a passion for helping people\, Dan is currently Principal of Effa Consulting\, helping business leaders make better decisions - particularly in strategy and post-acquisition/merger.<br />\nwww.effaconsulting.com
LOCATION:Surrey Board of Trade Conference Room 101 - 14439 104 Avenue\, Surrey
UID:e.749.3742
SEQUENCE:3
DTSTAMP:20260424T052724Z
URL:https://business.businessinsurrey.com/events/details/financial-survival-for-entrepreneurs-workshop-04-12-2016-3742
END:VEVENT

END:VCALENDAR
