BEGIN:VCALENDAR
VERSION:2.0
PRODID:-//ChamberMaster//Event Calendar 2.0//EN
METHOD:PUBLISH
X-PUBLISHED-TTL:P3D
REFRESH-INTERVAL:P3D
CALSCALE:GREGORIAN
BEGIN:VEVENT
DTSTART:20101011T010000Z
DTEND:20101011T050000Z
X-MICROSOFT-CDO-ALLDAYEVENT:FALSE
SUMMARY:Fiji's 40th Independence Day Celebration
DESCRIPTION:The Fiji Times (Canada) and Island Vision TV present\n\n	 \n\n	Fiji's 40th Independence Day Celebration Dinner and Dance.\n\n	 \n\n	Enjoy entertainment\, dinner and dance at this milestone event.
X-ALT-DESC;FMTTYPE=text/html:<div>\n	The Fiji Times (Canada) and Island Vision TV present</div>\n<div>\n	&nbsp\;</div>\n<div style="text-align: center\; ">\n	<strong><big>Fiji&rsquo\;s 40th Independence Day Celebration Dinner and Dance.</big></strong></div>\n<div>\n	&nbsp\;</div>\n<div>\n	Enjoy entertainment\, dinner and dance at this milestone event.</div>\n
LOCATION:Bombay Banquet Hall (7475 135 St\, Surrey)
UID:e.749.1692
SEQUENCE:3
DTSTAMP:20260422T134140Z
URL:https://business.businessinsurrey.com/events/details/fiji-s-40th-independence-day-celebration-10-10-2010-1692
END:VEVENT

END:VCALENDAR
