BEGIN:VCALENDAR
VERSION:2.0
PRODID:-//ChamberMaster//Event Calendar 2.0//EN
METHOD:PUBLISH
X-PUBLISHED-TTL:P3D
REFRESH-INTERVAL:P3D
CALSCALE:GREGORIAN
BEGIN:VEVENT
DTSTART:20110209T153000Z
DTEND:20110209T173000Z
X-MICROSOFT-CDO-ALLDAYEVENT:FALSE
SUMMARY:February 9\, 2011 - Breakfast in the City
DESCRIPTION:Have breakfast and network with your fellow Board of Trade members at this popular morning event.\n\n	\n\n	You can help welcome our new members and establish new contacts too\, while you learn more about some of the advantages of belonging to the Surrey Board of Trade.
X-ALT-DESC;FMTTYPE=text/html:<div>\n	Have breakfast and network with your fellow Board of Trade members at this popular morning event.<br />\n	<br />\n	You can help welcome our new members and establish new contacts too\, while you learn more about some of the advantages of belonging to the Surrey Board of Trade.</div>\n
LOCATION:Sheraton Vancouver Guildford Hotel 15269 104 Avenue\, Surrey
UID:e.749.1719
SEQUENCE:3
DTSTAMP:20260422T054516Z
URL:https://business.businessinsurrey.com/events/details/february-9-2011-breakfast-in-the-city-02-09-2011-1719
END:VEVENT

END:VCALENDAR
