BEGIN:VCALENDAR
VERSION:2.0
PRODID:-//ChamberMaster//Event Calendar 2.0//EN
METHOD:PUBLISH
X-PUBLISHED-TTL:P3D
REFRESH-INTERVAL:P3D
CALSCALE:GREGORIAN
BEGIN:VEVENT
DTSTART;VALUE=DATE:20090205
DTEND;VALUE=DATE:20090206
TRANSP:TRANSPARENT
X-MICROSOFT-CDO-ALLDAYEVENT:TRUE
SUMMARY:February 5\, 2009 - Kwantlen B2B
DESCRIPTION:
X-ALT-DESC;FMTTYPE=text/html:
LOCATION:
UID:e.749.1422
SEQUENCE:3
DTSTAMP:20260423T200647Z
URL:https://business.businessinsurrey.com/events/details/february-5-2009-kwantlen-b2b-02-05-2009-1422
END:VEVENT

END:VCALENDAR
