BEGIN:VCALENDAR
VERSION:2.0
PRODID:-//ChamberMaster//Event Calendar 2.0//EN
METHOD:PUBLISH
X-PUBLISHED-TTL:P3D
REFRESH-INTERVAL:P3D
CALSCALE:GREGORIAN
BEGIN:VEVENT
DTSTART:20160204T193000Z
DTEND:20160204T213000Z
X-MICROSOFT-CDO-ALLDAYEVENT:FALSE
SUMMARY:February 4\, 2016 - 2016 Economic Forecast Lunch
DESCRIPTION:Hear from a panel of expert speakers on what's expected for our local\, provincial\, federal and international economies - and what that means to your business or not-for-profit association.\n\n	Ken Peacock\, Chief Economist and Vice President\, Business Council of BC\n	Robert Levy\, Managing Director\, Border Gold Corp. and Financial Commentator\, CKNW\n	Eamonn Percy\, Founder\, Percy Group Capital & Business Advisors
X-ALT-DESC;FMTTYPE=text/html:Hear from a panel of expert speakers on what&#39\;s expected for our local\, provincial\, federal and international economies - and what that means to your business or not-for-profit association.\n<ol>\n	<li>Ken Peacock\, Chief Economist and Vice President\, Business Council of BC</li>\n	<li>Robert Levy\, Managing Director\, Border Gold Corp. and Financial Commentator\, CKNW</li>\n	<li>Eamonn Percy\, Founder\, Percy Group Capital &amp\; Business Advisors</li>\n</ol>\n
LOCATION:Eaglequest Golf Course 7778 152 Street\, Surrey
UID:e.749.3689
SEQUENCE:3
DTSTAMP:20260424T023705Z
URL:https://business.businessinsurrey.com/events/details/february-4-2016-2016-economic-forecast-lunch-02-04-2016-3689
END:VEVENT

END:VCALENDAR
