BEGIN:VCALENDAR
VERSION:2.0
PRODID:-//ChamberMaster//Event Calendar 2.0//EN
METHOD:PUBLISH
X-PUBLISHED-TTL:P3D
REFRESH-INTERVAL:P3D
CALSCALE:GREGORIAN
BEGIN:VEVENT
DTSTART:20160226T153000Z
DTEND:20160226T173000Z
X-MICROSOFT-CDO-ALLDAYEVENT:FALSE
SUMMARY:February 26\, 2016 - Business and Global Free Trade Agreements
DESCRIPTION:The Federal government is reviewing and preparing to ratify the Trans-Pacific Partnership Agreement and CETA. The Softwood Lumber Agreement (SLA) has expired and needs renegotiation under NAFTA regulations to avoid US tariffs. The SBOT Panel will review what agreements are already in place\, the potential impacts of new trade agreements and how local businesses can profit in a global marketplace.
X-ALT-DESC;FMTTYPE=text/html:The Federal government is reviewing and preparing to ratify the Trans-Pacific Partnership Agreement and CETA. The Softwood Lumber Agreement (SLA) has expired and needs renegotiation under NAFTA regulations to avoid US tariffs. The SBOT Panel will review what agreements are already in place\, the potential impacts of new trade agreements and how local businesses can profit in a global marketplace.
LOCATION:Eaglequest Golf Course 7778 152 Street Surrey\, BC
UID:e.749.4792
SEQUENCE:3
DTSTAMP:20260424T024422Z
URL:https://business.businessinsurrey.com/events/details/february-26-2016-business-and-global-free-trade-agreements-02-26-2016-4792
END:VEVENT

END:VCALENDAR
