BEGIN:VCALENDAR
VERSION:2.0
PRODID:-//ChamberMaster//Event Calendar 2.0//EN
METHOD:PUBLISH
X-PUBLISHED-TTL:P3D
REFRESH-INTERVAL:P3D
CALSCALE:GREGORIAN
BEGIN:VEVENT
DTSTART:20110224T193000Z
DTEND:20110224T210000Z
X-MICROSOFT-CDO-ALLDAYEVENT:FALSE
SUMMARY:February 24\, 2011 - Minister of International Trade Lunch
DESCRIPTION:Federal Minister of International Trade\, Peter Van Loan\, will speak to the Surrey Board of Trade on the topic of Canada Trade with Asia.\n\n\n\nHear more about Canada's Free Trade agenda.
X-ALT-DESC;FMTTYPE=text/html:Federal Minister of International Trade\, Peter Van Loan\, will speak to the Surrey Board of Trade on the topic of Canada Trade with Asia.<br />\n<br />\nHear more about Canada&#39\;s Free Trade agenda.
LOCATION:Eaglequest Coyote Creek 7778 152 Street\, Surrey
UID:e.749.1803
SEQUENCE:3
DTSTAMP:20260422T054756Z
URL:https://business.businessinsurrey.com/events/details/february-24-2011-minister-of-international-trade-lunch-02-24-2011-1803
END:VEVENT

END:VCALENDAR
