BEGIN:VCALENDAR
VERSION:2.0
PRODID:-//ChamberMaster//Event Calendar 2.0//EN
METHOD:PUBLISH
X-PUBLISHED-TTL:P3D
REFRESH-INTERVAL:P3D
CALSCALE:GREGORIAN
BEGIN:VEVENT
DTSTART:20160223T160000Z
DTEND:20160223T180000Z
X-MICROSOFT-CDO-ALLDAYEVENT:FALSE
SUMMARY:February 23\, 2016 - Good Meetings\, Great Results Workshop
DESCRIPTION:Are your meetings productive?\n\n\n\nBad meetings start with the attitudes and approaches of those who lead and take part in them.  Making the leap from painful meetings to productive ones will lead your organization to enormous rewards. The purpose of this workshop is to provide you with meeting theories so you can implement all or part of it within your organization\, and reap some of those rewards.\n\nAttend this workshop to learn about:\n\n\n	How to Create More Engaging and Productive Meetings\n\n	Instill some drama\, set the hook\, mine for conflict\, real-time permission.\n	Fewer Meetings or More - Contextual Structure (Type)\n\n	Daily check-in\, weekly tactical\, monthly strategic\, quarterly off-site review.\n	Final Thoughts on Meetings\n\n	Biggest challenges\, impact of bad and good meetings on leaders\, teams and results.\n\n\nThis workshop is facilitated by Tim McKinnon of Stride Business Coaching Inc.
X-ALT-DESC;FMTTYPE=text/html:<span style="font-family:arial"><span style="font-size:12px">Are your <span class="il">meetings</span> productive?<br />\n<br />\nBad <span class="il">meetings</span> start with the attitudes and approaches of those who lead and take part in them.&nbsp\; Making the leap from painful <span class="il">meetings</span> to productive ones will lead your organization to enormous rewards. The purpose of this workshop is to provide you with <span class="il">meeting</span> theories so you can implement all or part of it within your organization\, and reap some of those rewards.<br />\nAttend this workshop to learn about:</span></span>\n\n<ul>\n	<li><span style="font-family:arial"><span style="font-size:12px"><b>How to Create More Engaging and Productive <span class="il">Meetings</span></b><br />\n	Instill some drama\, set the hook\, mine for conflict\, real-time permission.</span></span></li>\n	<li><span style="font-family:arial"><span style="font-size:12px"><b>Fewer <span class="il">Meetings</span> or More - Contextual Structure (Type)</b><br />\n	Daily check-in\, weekly tactical\, monthly strategic\, quarterly off-site review.</span></span></li>\n	<li><span style="font-family:arial"><span style="font-size:12px"><b>Final Thoughts on <span class="il">Meetings</span></b><br />\n	Biggest challenges\, impact of bad and <span class="il">good</span> <span class="il">meetings</span> on leaders\, teams and results.</span></span></li>\n</ul>\n\n<p><span style="font-family:arial"><span style="font-size:12px">This workshop is facilitated by Tim McKinnon of Stride Business Coaching Inc.</span></span></p>\n
LOCATION:Surrey Board of Trade 101 - 14439 104 Avenue\, Surrey
UID:e.749.3738
SEQUENCE:3
DTSTAMP:20260424T024153Z
URL:https://business.businessinsurrey.com/events/details/february-23-2016-good-meetings-great-results-workshop-02-23-2016-3738
END:VEVENT

END:VCALENDAR
