BEGIN:VCALENDAR
VERSION:2.0
PRODID:-//ChamberMaster//Event Calendar 2.0//EN
METHOD:PUBLISH
X-PUBLISHED-TTL:P3D
REFRESH-INTERVAL:P3D
CALSCALE:GREGORIAN
BEGIN:VEVENT
DTSTART:20110222T160000Z
DTEND:20110222T180000Z
X-MICROSOFT-CDO-ALLDAYEVENT:FALSE
SUMMARY:February 22\, 2011 - Maximizing Your Employees' Potential - HR Series Part 1
DESCRIPTION:Part 1 of a series of 4 Human Resources Workshops the Surrey Board of Trade will be hosting.  Sign up for all 4 to receive a discounted rate.\n\n	\n\n	Part 1: Maximizing Your Employees' Potential - February 22\, 2011\n\n	\n\n	Part 2: Dealing with Difficult Employees - April 13\, 2011\n\n	\n\n	Part 3: Hire Great Employees and Recruit with Confidence - September 29\, 2011\n\n	\n\n	Part 4: Dealing with Absenteeism - November 22\, 2011
X-ALT-DESC;FMTTYPE=text/html:<p>\n	Part 1 of a series of 4 Human Resources Workshops the Surrey Board of Trade will be hosting.&nbsp\; Sign up for all 4 to receive a discounted rate.<br />\n	<br />\n	<strong>Part 1: Maximizing Your Employees&#39\; Potential - February 22\, 2011<br />\n	<br />\n	Part 2: Dealing with Difficult Employees - April 13\, 2011<br />\n	<br />\n	Part 3: Hire Great Employees and Recruit with Confidence - September 29\, 2011<br />\n	<br />\n	Part 4: Dealing with Absenteeism - November 22\, 2011</strong></p>\n
LOCATION:Surrey Board of Trade Conference Room #101 - 14439 104 Avenue\, Surrey
UID:e.749.1761
SEQUENCE:3
DTSTAMP:20260422T054522Z
URL:https://business.businessinsurrey.com/events/details/february-22-2011-maximizing-your-employees-potential-hr-series-part-1-02-22-2011-1761
END:VEVENT

END:VCALENDAR
