BEGIN:VCALENDAR
VERSION:2.0
PRODID:-//ChamberMaster//Event Calendar 2.0//EN
METHOD:PUBLISH
X-PUBLISHED-TTL:P3D
REFRESH-INTERVAL:P3D
CALSCALE:GREGORIAN
BEGIN:VEVENT
DTSTART:20110218T160000Z
DTEND:20110218T170000Z
X-MICROSOFT-CDO-ALLDAYEVENT:FALSE
SUMMARY:February 18 \, 2011 - Coffee with the President
DESCRIPTION:Join Nigel Watkinson\, President of the Surrey Board of Trade\, for coffee and discussion about issues and questions you and your colleagues have about doing business in Surrey. On a daily basis\, your Board of Tradedeals with advocacy issues like crime\, transportation\, social issues and business-government relations.  We gather input from our committees and though meetings just like this.  Come and let us know what\;s important to you\, or give us some feedback on how we can serve you better. There popular sessions have been well attended for the past few years and members say they've benefitted. This is only room for 20 people\, so register early! Members helping members of the Surrey Board of Trade.
X-ALT-DESC;FMTTYPE=text/html:<div><div>Join Nigel Watkinson\, President of the Surrey Board of Trade\, for coffee and discussion about issues and questions you and your colleagues have about doing business in Surrey.</div><div>&nbsp\;</div><div>On&nbsp\;a daily basis\, your Board of Tradedeals with advocacy issues like crime\, transportation\, social issues and business-government relations. &nbsp\;We gather input from our committees and though meetings just like this. &nbsp\;Come and let us know what\;s important to you\, or give us some feedback on how we can serve you better.</div><div>&nbsp\;</div><div>There popular sessions have been well attended for the past few years and members say they&rsquo\;ve benefitted.</div><div>&nbsp\;</div><div>This is only room for 20 people\, so register early!</div><div>&nbsp\;</div><div>Members helping members of the Surrey Board of Trade.</div></div>
LOCATION:Surrey Board of Trade Conference Room#101 - 14439 104 Avenue\, Surrey
UID:e.749.1640
SEQUENCE:3
DTSTAMP:20260422T054501Z
URL:https://business.businessinsurrey.com/events/details/february-18-2011-coffee-with-the-president-02-18-2011-1640
END:VEVENT

END:VCALENDAR
