BEGIN:VCALENDAR
VERSION:2.0
PRODID:-//ChamberMaster//Event Calendar 2.0//EN
METHOD:PUBLISH
X-PUBLISHED-TTL:P3D
REFRESH-INTERVAL:P3D
CALSCALE:GREGORIAN
BEGIN:VEVENT
DTSTART:20160217T154500Z
DTEND:20160217T180000Z
X-MICROSOFT-CDO-ALLDAYEVENT:FALSE
SUMMARY:February 17\, 2016 - Customer Service Workshop
DESCRIPTION:Grow Your Business with Exceptional Customer Service\n\n\n\nBusinesses invest enormous amounts of money to attract new customers yet they don't see the low hanging fruit right in front of them\, their existing & past customers.\n\n\n\nThis information packed and interactive workshop will show you how to build a Customer Service System that will:\n\n\n\n     turn your customers into raving fans\n\n     increase referrals\n\n     reduce attrition\n\n     prevent many of the "fires" that cause business disruption and unhappy customers\n\n\n\nAll attendees will receive a workbook and will leave with a Customer Service System tailored for their business.\n\n\n\nThis workshop is facilitated by Tony Malyk of Empowered Business Coaching
X-ALT-DESC;FMTTYPE=text/html:Grow Your Business with Exceptional Customer Service<br />\n<br />\nBusinesses invest enormous amounts of money to attract new customers yet they don&rsquo\;t see the low hanging fruit right in front of them\, their existing &amp\; past customers.<br />\n<br />\nThis information packed and interactive workshop will show you how to build a Customer Service System that will:<br />\n<br />\n&bull\;&nbsp\;&nbsp\;&nbsp\; turn your customers into raving fans<br />\n&bull\;&nbsp\;&nbsp\;&nbsp\; increase referrals<br />\n&bull\;&nbsp\;&nbsp\;&nbsp\; reduce attrition<br />\n&bull\;&nbsp\;&nbsp\;&nbsp\; prevent many of the &ldquo\;fires&rdquo\; that cause business disruption and unhappy customers<br />\n<br />\nAll attendees will receive a workbook and will leave with a Customer Service System tailored for their business.<br />\n<br />\nThis workshop is facilitated by Tony Malyk of Empowered Business Coaching
LOCATION:Surrey Board of Trade (101 - 14439 104 Avenue)
UID:e.749.3714
SEQUENCE:3
DTSTAMP:20260424T024037Z
URL:https://business.businessinsurrey.com/events/details/february-17-2016-customer-service-workshop-02-17-2016-3714
END:VEVENT

END:VCALENDAR
