BEGIN:VCALENDAR
VERSION:2.0
PRODID:-//ChamberMaster//Event Calendar 2.0//EN
METHOD:PUBLISH
X-PUBLISHED-TTL:P3D
REFRESH-INTERVAL:P3D
CALSCALE:GREGORIAN
BEGIN:VEVENT
DTSTART:20160210T154500Z
DTEND:20160210T180000Z
X-MICROSOFT-CDO-ALLDAYEVENT:FALSE
SUMMARY:February 10\, 2016 - Tax Planning for Small Business Workshop
DESCRIPTION:The Canadian Tax System provides many tax planning opportunities for businesses\, but also contain traps for the unwary. Effective tax planning should take full advantage of opportunities in the tax system such as available deductions\, optimizing your income\, and minimizing your taxes. As each business situation is unique\, so too are it's tax planning needs. This seminar will explore  strategies used by tax planners to minimize taxes for businesses at various stages of their lives.\n\n \n\nThis workshop is presented by\n\nClearline CPA\n\n\n\nFrom Vancouver to White Rock\, Burnaby\, Surrey and North Vancouver\, Clearline offers professional accounting and bookkeeping services including corporate and non-profit audit\, tax and advice on general financial matters. If you run a business\, own a company\, lead a non-profit\, head a public company\, or just need a personal income tax return filed\, they can help with all your accounting needs.
X-ALT-DESC;FMTTYPE=text/html:The Canadian Tax System provides many tax planning opportunities for businesses\, but also contain traps for the unwary. Effective tax planning should take full advantage of opportunities in the tax system such as available deductions\, optimizing your income\, and minimizing your taxes. As each business situation is unique\, so too are it&rsquo\;s tax planning needs. This seminar will explore&nbsp\; strategies used by tax planners to minimize taxes for businesses at various stages of their lives.<br />\n&nbsp\;<br />\nThis workshop is presented by<br />\nClearline CPA<br />\n<br />\nFrom Vancouver to White Rock\, Burnaby\, Surrey and North Vancouver\, Clearline offers professional accounting and bookkeeping services including corporate and non-profit audit\, tax and advice on general financial matters. If you run a business\, own a company\, lead a non-profit\, head a public company\, or just need a personal income tax return filed\, they can help with all your accounting needs.
LOCATION:Surrey Board of Trade (101 - 14439 104 Avenue\, Surrey)
UID:e.749.3713
SEQUENCE:3
DTSTAMP:20260424T024352Z
URL:https://business.businessinsurrey.com/events/details/february-10-2016-tax-planning-for-small-business-workshop-02-10-2016-3713
END:VEVENT

END:VCALENDAR
