BEGIN:VCALENDAR
VERSION:2.0
PRODID:-//ChamberMaster//Event Calendar 2.0//EN
METHOD:PUBLISH
X-PUBLISHED-TTL:P3D
REFRESH-INTERVAL:P3D
CALSCALE:GREGORIAN
BEGIN:VEVENT
DTSTART:20110211T020000Z
DTEND:20110211T040000Z
X-MICROSOFT-CDO-ALLDAYEVENT:FALSE
SUMMARY:February 10\, 2011 - Xcalibur Bowling Business to Business Reception
DESCRIPTION:Join the Xcitement!\n\n	\n\n	Join us in learning more about Xcalibur Bowling Centre\; Network and make new business contacts while enjoying the fun and exciting atmosphere!\n\n	Find out how you can have your corporate function at Xcalibur Bowling Centre!\n\n	Win great prizes!\n\n	Make new business contacts!
X-ALT-DESC;FMTTYPE=text/html:<p align="left">\n	<span style="font-size: 12px"><font face="ArialMT"><font face="ArialMT">Join the Xcitement!</font></font><br />\n	<br />\n	<font face="ArialMT"><font face="ArialMT">Join us in learning more about Xcalibur Bowling Centre\; Network and </font></font><font face="ArialMT"><font face="ArialMT">make new business contacts while enjoying the fun and exciting </font></font><font face="ArialMT"><font face="ArialMT">atmosphere!</font></font></span></p>\n<p align="left">\n	<span style="font-size: 12px"><font face="ArialMT"><font face="ArialMT">Find out how you can have your corporate function at Xcalibur Bowling </font></font><font face="ArialMT"><font face="ArialMT">Centre!</font></font></span></p>\n<p align="left">\n	<span style="font-size: 12px"><font face="ArialMT"><font face="ArialMT">Win great prizes!</font></font></span></p>\n<p>\n	<span style="font-size: 12px"><font face="ArialMT"><font face="ArialMT">Make new business contacts!</font></font></span></p>\n
LOCATION:Xcalibur Bowling Centre 12350 Pattullo Place Surrey\, BC V3V 8C3
UID:e.749.1671
SEQUENCE:3
DTSTAMP:20260422T070230Z
URL:https://business.businessinsurrey.com/events/details/february-10-2011-xcalibur-bowling-business-to-business-reception-02-10-2011-1671
END:VEVENT

END:VCALENDAR
