BEGIN:VCALENDAR
VERSION:2.0
PRODID:-//ChamberMaster//Event Calendar 2.0//EN
METHOD:PUBLISH
X-PUBLISHED-TTL:P3D
REFRESH-INTERVAL:P3D
CALSCALE:GREGORIAN
BEGIN:VEVENT
DTSTART;VALUE=DATE:20100210
DTEND;VALUE=DATE:20100211
TRANSP:TRANSPARENT
X-MICROSOFT-CDO-ALLDAYEVENT:TRUE
SUMMARY:February 10\, 2010 - Future Member Orientation
DESCRIPTION:
X-ALT-DESC;FMTTYPE=text/html:
LOCATION:
UID:e.749.1577
SEQUENCE:3
DTSTAMP:20260423T024444Z
URL:https://business.businessinsurrey.com/events/details/february-10-2010-future-member-orientation-02-10-2010-1577
END:VEVENT

END:VCALENDAR
