BEGIN:VCALENDAR
VERSION:2.0
PRODID:-//ChamberMaster//Event Calendar 2.0//EN
METHOD:PUBLISH
X-PUBLISHED-TTL:P3D
REFRESH-INTERVAL:P3D
CALSCALE:GREGORIAN
BEGIN:VEVENT
DTSTART:20150325T183000Z
DTEND:20150325T200000Z
X-MICROSOFT-CDO-ALLDAYEVENT:FALSE
SUMMARY:Facebook Strategies for Entrepreneurs
DESCRIPTION:This free lunch n' learn workshop is all about building revenue-generating content and gaining long-term followers on Facebook. Guest speaker Sherri-Lee Woycik\, is a Facebook marketing expert\, and will be sharing simple yet effective tactics for boosting your social media ROI.
X-ALT-DESC;FMTTYPE=text/html:This free lunch n&#39\; learn workshop is all about building revenue-generating content and gaining long-term followers on Facebook. Guest speaker Sherri-Lee Woycik\, is a Facebook marketing expert\, and will be sharing simple yet effective tactics for boosting your social media ROI.
LOCATION:Beta Collective\, 13637 100th Ave.\, Surrey\, BC
UID:e.749.3550
SEQUENCE:3
DTSTAMP:20260423T104928Z
URL:https://business.businessinsurrey.com/events/details/facebook-strategies-for-entrepreneurs-03-25-2015-3550
END:VEVENT

END:VCALENDAR
