BEGIN:VCALENDAR
VERSION:2.0
PRODID:-//ChamberMaster//Event Calendar 2.0//EN
METHOD:PUBLISH
X-PUBLISHED-TTL:P3D
REFRESH-INTERVAL:P3D
CALSCALE:GREGORIAN
BEGIN:VEVENT
DTSTART:20160505T200000Z
DTEND:20160506T003000Z
X-MICROSOFT-CDO-ALLDAYEVENT:FALSE
SUMMARY:Exporting Unleashed 2016
DESCRIPTION:Join Export Development Canada and Canadian Manufacturers & Exporters on May 5\, 2016 in Vancouver for Exporting Unleashed 2016. Don't let the uncertain global economy hold you back from growing your business around the world. EXPORTING UNLEASHED 2016 will help you break free from restraints and discover how to harness new global opportunities and turn turmoil into opportunity. Join Peter Hall\, EDC's knowledgeable Chief Economist\, for his popular annual presentation\, Let's Talk Exports\, packed with insights on global economic trends and opportunities. Plus\, interactive breakout sessions will give you valuable information focused on finding customers in the U.S. and around the world. You'll learn how to: - uncover new opportunities in today's uncertain economic market\; - discover how you sell products and services online and take advantage of the booming global ecommerce market\; and - find the right global agents\, customers and connections to help you succeed.
X-ALT-DESC;FMTTYPE=text/html:Join Export Development Canada and Canadian Manufacturers &amp\; Exporters on May 5\, 2016 in Vancouver for Exporting Unleashed 2016. Don&#39\;t let the uncertain global economy hold you back from growing your business around the world. EXPORTING UNLEASHED 2016 will help you break free from restraints and discover how to harness new global opportunities and turn turmoil into opportunity. Join Peter Hall\, EDC&#39\;s knowledgeable Chief Economist\, for his popular annual presentation\, Let&#39\;s Talk Exports\, packed with insights on global economic trends and opportunities. Plus\, interactive breakout sessions will give you valuable information focused on finding customers in the U.S. and around the world. You&#39\;ll learn how to: - uncover new opportunities in today&#39\;s uncertain economic market\; - discover how you sell products and services online and take advantage of the booming global ecommerce market\; and - find the right global agents\, customers and connections to help you succeed.
LOCATION:Fairmont Waterfront\, 900 Canada Pl\, Vancouver\, BC
UID:e.749.4923
SEQUENCE:3
DTSTAMP:20260424T070234Z
URL:https://business.businessinsurrey.com/events/details/exporting-unleashed-2016-05-05-2016-4923
END:VEVENT

END:VCALENDAR
