BEGIN:VCALENDAR
VERSION:2.0
PRODID:-//ChamberMaster//Event Calendar 2.0//EN
METHOD:PUBLISH
X-PUBLISHED-TTL:P3D
REFRESH-INTERVAL:P3D
CALSCALE:GREGORIAN
BEGIN:VEVENT
DTSTART:20110209T170000Z
DTEND:20110209T193000Z
X-MICROSOFT-CDO-ALLDAYEVENT:FALSE
SUMMARY:Export Seminar - Selling Your Products and Services in Foreign Countries
DESCRIPTION:Selling & Shipping into Global Markets\n\n\n\nExport Seminar - Selling Your Products and Services in Foreign Countries\n\n\n\nPacific Customs Brokers and Pacific Overseas Forwarding are offering a seminar on exporting from Canada. This seminar will focus on exporting products to countries other than the United States and will be of interest to those business owners looking to expand their traditional product market. The seminar will provide you with a solid foundation of reporting\, record keeping requirements and terms of sale. You will also have a better understanding of Free Trade Agreements\, regulations and how to prepare the documentation for export.\n\n\n\nTopics of the Seminars Include:\n\n* Obtaining a Business Number\n\n* Keeping Books and Records\n\n* Reporting Requirements\n\n* How and Why Do you Report Your Exports\n\n* Exports and Free Trade Agreements\n\n* Restrictions or Other Requirements\n\n* Entry Permission of Your Product\n\n* Documents Required for Exporting\n\n* Certificates of Origin\n\n* Incoterms 2010\n\n* Letters of Credit\n\n* Remote Location filing - outport entries\n\n* Bonds\n\n* ATA Carnet\n\n\n\nPresentation Speaker:\n\nRichard Brinkert\, CCS - Certified Customs Specialist and Business Account Manager for both Pacific Overseas Forwarding and Pacific Customs Brokers. Richard has 25+ years experience in Canadian and U.S. customs brokerage\, freight forwarding logistics and warehousing.\n\n\n\nGuest Speaker:\n\nMeera Bawa - Trade Commissioner\, Regional Office of the Trade Commissioner Service with Foreign Affairs and International Trade Canada
X-ALT-DESC;FMTTYPE=text/html:Selling &amp\; Shipping into Global Markets<br />\n<br />\nExport Seminar -&nbsp\;Selling Your Products and Services in Foreign Countries<br />\n<br />\nPacific Customs Brokers and Pacific Overseas Forwarding are offering a seminar on exporting from Canada. This seminar will focus on exporting products to countries other than the United States and will be of interest to those business owners looking to expand their traditional product market. The seminar will provide you with a solid foundation of reporting\, record keeping requirements and terms of sale. You will also have a better understanding of Free Trade Agreements\, regulations and how to prepare the documentation for export.<br />\n<br />\nTopics of the Seminars Include:<br />\n* Obtaining a Business Number<br />\n* Keeping Books and Records<br />\n* Reporting Requirements<br />\n* How and Why Do you Report Your Exports<br />\n* Exports and Free Trade Agreements<br />\n* Restrictions or Other Requirements<br />\n* Entry Permission of Your Product<br />\n* Documents Required for Exporting<br />\n* Certificates of Origin<br />\n* Incoterms 2010<br />\n* Letters of Credit<br />\n* Remote Location filing - outport entries<br />\n* Bonds<br />\n* ATA Carnet<br />\n<br />\nPresentation Speaker:<br />\nRichard Brinkert\, CCS - Certified Customs Specialist and Business Account Manager for both Pacific Overseas Forwarding and Pacific Customs Brokers. Richard has 25+ years experience in Canadian and U.S. customs brokerage\, freight forwarding logistics and warehousing.<br />\n<br />\nGuest Speaker:<br />\nMeera Bawa - Trade Commissioner\, Regional Office of the Trade Commissioner Service with Foreign Affairs and International Trade Canada
LOCATION:Pacific Customs Brokers - Seminar Room 101 - 17637 1st Avenue Surrey\, British Columbia Canada V3S 9S1
UID:e.749.1783
SEQUENCE:3
DTSTAMP:20260422T082157Z
URL:https://business.businessinsurrey.com/events/details/export-seminar-selling-your-products-and-services-in-foreign-countries-02-09-2011-1783
END:VEVENT

END:VCALENDAR
