BEGIN:VCALENDAR
VERSION:2.0
PRODID:-//ChamberMaster//Event Calendar 2.0//EN
METHOD:PUBLISH
X-PUBLISHED-TTL:P3D
REFRESH-INTERVAL:P3D
CALSCALE:GREGORIAN
BEGIN:VEVENT
DTSTART:20150429T183000Z
DTEND:20150429T203000Z
X-MICROSOFT-CDO-ALLDAYEVENT:FALSE
SUMMARY:Exit Readiness
DESCRIPTION:Sequeira Partners is hosting a luncheon about the strategy and highlights of transitioning a multi-generational family business. Hear about the history and growth that led to the sale of Mainland Sand & Gravel Ltd. as well as the challenges associated with transitioning ownership of a private enterprise.\n\nSession Overview:\n\n        An understanding of the current state of the transaction market in Western Canada\, including recent activity in the lower mainland.\n\n        Strategies to maximize value when considering transitioning a business.\n\n        A case study featuring guest speaker Laurie Carlson and his perspective on the sale of family owned Mainland Sand & Gravel Ltd.
X-ALT-DESC;FMTTYPE=text/html:<p class="MsoNormal" style="margin: 0in 0in 8pt\;"><font face="Calibri"><font size="3"><font color="#000000">Sequeira Partners is hosting a luncheon about the strategy and highlights of transitioning a multi-generational family business. Hear about the history and growth that led to the sale of Mainland Sand &amp\; Gravel Ltd. as well as the challenges associated with transitioning ownership of a private enterprise.<o:p></o:p></font></font></font></p>\n\n<p class="MsoNormal" style="margin: 0in 0in 8pt\;"><font face="Calibri"><font size="3"><font color="#000000"><b><span lang="EN-CA" style="mso-ansi-language: EN-CA\;">Session Overview:</span></b><o:p></o:p></font></font></font></p>\n\n<p class="MsoNormal" style="margin: 0in 0in 8pt 0.5in\; text-indent: -0.25in\; mso-list: l0 level1 lfo1\; tab-stops: list .5in\;"><font color="#000000"><span style="font-family: &quot\;Arial&quot\;\,sans-serif\; mso-fareast-font-family: Arial\;"><span style="mso-list: Ignore\;"><font size="3">&bull\;</font><span style="font: 7pt/normal &quot\;Times New Roman&quot\;\; font-size-adjust: none\; font-stretch: normal\;">&nbsp\;&nbsp\;&nbsp\;&nbsp\;&nbsp\;&nbsp\; </span></span></span><font face="Calibri"><font size="3"><span lang="EN-CA" style="mso-ansi-language: EN-CA\;">An understanding of the current state of the transaction market in Western Canada\, including recent activity in the lower mainland.</span><o:p></o:p></font></font></font></p>\n\n<p class="MsoNormal" style="margin: 0in 0in 8pt 0.5in\; text-indent: -0.25in\; mso-list: l0 level1 lfo1\; tab-stops: list .5in\;"><font color="#000000"><span style="font-family: &quot\;Arial&quot\;\,sans-serif\; mso-fareast-font-family: Arial\;"><span style="mso-list: Ignore\;"><font size="3">&bull\;</font><span style="font: 7pt/normal &quot\;Times New Roman&quot\;\; font-size-adjust: none\; font-stretch: normal\;">&nbsp\;&nbsp\;&nbsp\;&nbsp\;&nbsp\;&nbsp\; </span></span></span><font face="Calibri"><font size="3"><span lang="EN-CA" style="mso-ansi-language: EN-CA\;">Strategies to maximize value when considering transitioning a business.</span><o:p></o:p></font></font></font></p>\n\n<p class="MsoNormal" style="margin: 0in 0in 8pt 0.5in\; text-indent: -0.25in\; mso-list: l0 level1 lfo1\; tab-stops: list .5in\;"><font color="#000000"><span style="font-family: &quot\;Arial&quot\;\,sans-serif\; mso-fareast-font-family: Arial\;"><span style="mso-list: Ignore\;"><font size="3">&bull\;</font><span style="font: 7pt/normal &quot\;Times New Roman&quot\;\; font-size-adjust: none\; font-stretch: normal\;">&nbsp\;&nbsp\;&nbsp\;&nbsp\;&nbsp\;&nbsp\; </span></span></span><font size="3"><font face="Calibri"><span lang="EN-CA" style="mso-ansi-language: EN-CA\;">A case study featuring <b>guest speaker Laurie Carlson </b>and his perspective on the sale of family owned Mainland Sand &amp\; Gravel Ltd. </span><o:p></o:p></font></font></font></p>\n
LOCATION:SIGNATURE SANDMAN HOTEL Langley
UID:e.749.3561
SEQUENCE:3
DTSTAMP:20260423T104333Z
URL:https://business.businessinsurrey.com/events/details/exit-readiness-04-29-2015-3561
END:VEVENT

END:VCALENDAR
