BEGIN:VCALENDAR
VERSION:2.0
PRODID:-//ChamberMaster//Event Calendar 2.0//EN
METHOD:PUBLISH
X-PUBLISHED-TTL:P3D
REFRESH-INTERVAL:P3D
CALSCALE:GREGORIAN
BEGIN:VEVENT
DTSTART:20160930T190000Z
DTEND:20161001T030000Z
X-MICROSOFT-CDO-ALLDAYEVENT:FALSE
SUMMARY:Envision Financial's ACCELERATE! Business Symposium
DESCRIPTION:Designed for established business owners and decision-makers\, Envision Financial's Accelerate! Business Symposium will provide business owners with the tools needed to elevate their business and engage clients\, suppliers\, and staff. From branding\, storytelling\, social media\, accounting and business operations\, this premiere business workshop has it all! Accelerate! Provides:   An opportunity to learn from experts as they guide you through three interactive sessions of your choice\;   Networking with 150 like-minded business people\;   Connections with industry experts\;   Innovative ideas from engaging speakers\;   Real experiences and take-home products that will excel your business\;   An introduction to the Envision Financial Business Banking Advisor Team. Agenda: 12:00   1:00 pm Registration and Networking (light refreshments available) 1:00   2:15 pm Workshop Session One 2:30   3:45 pm Workshop Session Two 4:00   5:15 pm Workshop Session Three 5:30 pm Accelerate! VIP Networking Dinner Program Keynote Presentation: Breaking Busy. Changing our Culture from Chaos to Calm. Linda Edgecombe is a Change Resilience Strategist\, Team Engagement and Accountability Expert\, and one of the Top 60 Motivational Speakers in the World! Linda will reveal her research and data collected from dozens of organizations on how chaos and "Busy" has become the new norm and wound us into the most unproductive and basically unhappy demographic in the past 30 years. Her humorous approach will have audiences rolling in the aisles as she invites you to Break Busy this year. Registration: To register\, and for more information about speakers and topics\, visit www.envisionaccelerate.com.
X-ALT-DESC;FMTTYPE=text/html:Designed for established business owners and decision-makers\, Envision Financial&rsquo\;s Accelerate! Business Symposium will provide business owners with the tools needed to elevate their business and engage clients\, suppliers\, and staff. From branding\, storytelling\, social media\, accounting and business operations\, this premiere business workshop has it all! Accelerate! Provides: &bull\; An opportunity to learn from experts as they guide you through three interactive sessions of your choice\; &bull\; Networking with 150 like-minded business people\; &bull\; Connections with industry experts\; &bull\; Innovative ideas from engaging speakers\; &bull\; Real experiences and take-home products that will excel your business\; &bull\; An introduction to the Envision Financial Business Banking Advisor Team. Agenda: 12:00 &ndash\; 1:00 pm Registration and Networking (light refreshments available) 1:00 &ndash\; 2:15 pm Workshop Session One 2:30 &ndash\; 3:45 pm Workshop Session Two 4:00 &ndash\; 5:15 pm Workshop Session Three 5:30 pm Accelerate! VIP Networking Dinner Program Keynote Presentation: Breaking Busy. Changing our Culture from Chaos to Calm. Linda Edgecombe is a Change Resilience Strategist\, Team Engagement and Accountability Expert\, and one of the Top 60 Motivational Speakers in the World! Linda will reveal her research and data collected from dozens of organizations on how chaos and &quot\;Busy&quot\; has become the new norm and wound us into the most unproductive and basically unhappy demographic in the past 30 years. Her humorous approach will have audiences rolling in the aisles as she invites you to Break Busy this year. Registration: To register\, and for more information about speakers and topics\, visit www.envisionaccelerate.com.
LOCATION:Cascades Casino and Coast Hotel\, 20393 Fraser Hwy\, Langley\, BC
UID:e.749.5123
SEQUENCE:3
DTSTAMP:20260424T052848Z
URL:https://business.businessinsurrey.com/events/details/envision-financial-s-accelerate-business-symposium-09-30-2016-5123
END:VEVENT

END:VCALENDAR
