BEGIN:VCALENDAR
VERSION:2.0
PRODID:-//ChamberMaster//Event Calendar 2.0//EN
METHOD:PUBLISH
X-PUBLISHED-TTL:P3D
REFRESH-INTERVAL:P3D
CALSCALE:GREGORIAN
BEGIN:VEVENT
DTSTART:20101125T194500Z
DTEND:20101125T220000Z
X-MICROSOFT-CDO-ALLDAYEVENT:FALSE
SUMMARY:ENTREPRENEURSHIP: Unlocking the potential
DESCRIPTION:Helping entrepreneurs succeed in today?s volatile economy \n\n \n\nEntrepreneurship and the creation of small and medium enterprises are the lifeblood of the economy. What must all levels of government\, the financial sector\, and industry do to support entrepreneurs\, and what can be learned from other countries?   \n\n \n\nJoin Anthony Ariganello\, President and CEO of CGA-Canada\, together with Eamonn Siggins\, Chief Executive of CPA Ireland\, for a presentation on the issues facing entrepreneurs today.
X-ALT-DESC;FMTTYPE=text/html:Helping entrepreneurs succeed in today?s volatile economy \n<br> \n<br>Entrepreneurship and the creation of small and medium enterprises are the lifeblood of the economy. What must all levels of government\, the financial sector\, and industry do to support entrepreneurs\, and what can be learned from other countries?   \n<br> \n<br>Join Anthony Ariganello\, President and CEO of CGA-Canada\, together with Eamonn Siggins\, Chief Executive of CPA Ireland\, for a presentation on the issues facing entrepreneurs today.
LOCATION:Sheraton Wall Centre Hotel\, Vancouver\, B.C.
UID:e.749.1699
SEQUENCE:3
DTSTAMP:20260422T134047Z
URL:https://business.businessinsurrey.com/events/details/entrepreneurship-unlocking-the-potential-11-25-2010-1699
END:VEVENT

END:VCALENDAR
