BEGIN:VCALENDAR
VERSION:2.0
PRODID:-//ChamberMaster//Event Calendar 2.0//EN
METHOD:PUBLISH
X-PUBLISHED-TTL:P3D
REFRESH-INTERVAL:P3D
CALSCALE:GREGORIAN
BEGIN:VEVENT
DTSTART:20151022T003000Z
DTEND:20151022T040000Z
X-MICROSOFT-CDO-ALLDAYEVENT:FALSE
SUMMARY:Entrepreneur of the Year Awards at Hard Rock Casino - October 21\, 2015
DESCRIPTION:Douglas College Invites you to celebrate 20 years of Self-Employment Services!
X-ALT-DESC;FMTTYPE=text/html:Douglas College Invites you to celebrate 20 years of Self-Employment Services!<br />\n<br />\n<br />\n&nbsp\;
LOCATION:Hard Rock Casino Vancouver\, 2080 United Boulevard\, Coquitlam\, BC V3K 6W3\, Canada
UID:e.749.3673
SEQUENCE:3
DTSTAMP:20260423T201346Z
URL:https://business.businessinsurrey.com/events/details/entrepreneur-of-the-year-awards-at-hard-rock-casino-october-21-2015-10-21-2015-3673
END:VEVENT

END:VCALENDAR
