BEGIN:VCALENDAR
VERSION:2.0
PRODID:-//ChamberMaster//Event Calendar 2.0//EN
METHOD:PUBLISH
X-PUBLISHED-TTL:P3D
REFRESH-INTERVAL:P3D
CALSCALE:GREGORIAN
BEGIN:VEVENT
DTSTART:20150609T160000Z
DTEND:20150609T193000Z
X-MICROSOFT-CDO-ALLDAYEVENT:FALSE
SUMMARY:Employment Seminar 2015\, presented by Hamilton Duncan Armstrong + Stewart
DESCRIPTION:Hamilton Duncan Armstrong + Stewart is pleased to present this half day seminar on the following employment topics:\n\n\n\nHiring in 2015\n\nTools and tips to protect the Employer\n\nAccommodation in the Workplace\n\nHow far do Employers have to go?\n\nTermination\n\nThe last resort\n\nWe invite all business owners\, managers and HR professionals to join us at this complimentary presentation. A continental breakfast will be provided.\n\n\n\nPlease RSVP by Thursday\, May 21\, 2015 to Lynda Wendland at lmw@hdas.com or 604.580.4757.
X-ALT-DESC;FMTTYPE=text/html:<p class="MsoNormal"><span style="font-size:11.0pt\;\nmso-bidi-font-size:13.0pt\;font-family:">Hamilton Duncan Armstrong + Stewart&nbsp\;is pleased to present this half day seminar on the following employment topics:</span><br />\n<br />\n<b style="line-height: 1.6\;">Hiring in 2015</b><br />\nTools and tips to protect the Employer</p>\n\n<p class="MsoNormal"><b>Accommodation in the Workplace</b><br />\n<span style="line-height: 1.6\;">How far do Employers have to go?</span></p>\n\n<p class="MsoNormal"><b>Termination</b><br />\n<span style="line-height: 1.6\;">The last resort</span></p>\n\n<p class="MsoNormal">We invite all business owners\, managers and HR professionals to join us at this <strong>complimentary </strong>presentation. A continental breakfast will be provided.<br />\n<br />\nPlease RSVP by&nbsp\;<strong>Thursday\,&nbsp\;May 21\, 2015</strong> to Lynda Wendland at lmw@hdas.com or 604.580.4757. &nbsp\;</p>\n
LOCATION:Northview Golf & Country Club Stewart Room 6857 168 Street\, Surrey\, BC
UID:e.749.3579
SEQUENCE:3
DTSTAMP:20260423T140021Z
URL:https://business.businessinsurrey.com/events/details/employment-seminar-2015-presented-by-hamilton-duncan-armstrong-stewart-06-09-2015-3579
END:VEVENT

END:VCALENDAR
