BEGIN:VCALENDAR
VERSION:2.0
PRODID:-//ChamberMaster//Event Calendar 2.0//EN
METHOD:PUBLISH
X-PUBLISHED-TTL:P3D
REFRESH-INTERVAL:P3D
CALSCALE:GREGORIAN
BEGIN:VEVENT
DTSTART:20101013T223000Z
DTEND:20101014T033000Z
X-MICROSOFT-CDO-ALLDAYEVENT:FALSE
SUMMARY:Employment Resources Fair for Immigrants
DESCRIPTION:A free community information and hiring event for Immigrant job seekers to explore employment opportunities in various industries for positions including general labour\, technical\, customer service\, management\, etc\; Employers can raise their profile with the many diverse cultural communities living in Surrey\, Delta\, White Rock\, Langley and close-by areas as well as connect with skilled and qualified candidates from a wide variety of backgrounds. Over 30 exhibitors and 1000 + job seekers will participate. Employment related workshops and on site interviews will be conducted.
X-ALT-DESC;FMTTYPE=text/html:<p>\n	<span style="font-size: 11px"><span style="font-weight: normal"><span style="font-family: calibri\, sans-serif">A </span></span><span style="font-family: calibri\, sans-serif">free community information and hiring event for Immigrant job seekers to explore employment opportunities in various industries for positions including general labour\, technical\, customer service\, management\, etc\; Employers can raise their profile with the many diverse cultural communities living in Surrey\, Delta\, White Rock\, Langley and close-by areas as well as connect with skilled and qualified candidates from a wide variety of backgrounds. Over 30 exhibitors and 1000 + job seekers will participate. Employment related workshops and on site interviews will be conducted. </span></span></p>\n
LOCATION:Delview Secondary School\, 9111 116th Street\, Delta\, BC
UID:e.749.1679
SEQUENCE:3
DTSTAMP:20260422T150835Z
URL:https://business.businessinsurrey.com/events/details/employment-resources-fair-for-immigrants-10-13-2010-1679
END:VEVENT

END:VCALENDAR
