BEGIN:VCALENDAR
VERSION:2.0
PRODID:-//ChamberMaster//Event Calendar 2.0//EN
METHOD:PUBLISH
X-PUBLISHED-TTL:P3D
REFRESH-INTERVAL:P3D
CALSCALE:GREGORIAN
BEGIN:VEVENT
DTSTART:20150712T190000Z
DTEND:20150713T000000Z
X-MICROSOFT-CDO-ALLDAYEVENT:FALSE
SUMMARY:EAT PLAY LIVE WELL
DESCRIPTION:You are invited to our annual Health Fair at 13670 - 94 A Ave (behind Surrey Memorial) off King George. Parking is at QE.  Fun\, Food and information on healthy living and sustainability
X-ALT-DESC;FMTTYPE=text/html:You are invited to our annual Health Fair at 13670 - 94 A Ave (behind Surrey Memorial) off King George. Parking is at QE.&nbsp\; Fun\, Food and information on healthy living and sustainability
LOCATION:13670 - 94 A Ave
UID:e.749.3613
SEQUENCE:3
DTSTAMP:20260423T153028Z
URL:https://business.businessinsurrey.com/events/details/eat-play-live-well-07-12-2015-3613
END:VEVENT

END:VCALENDAR
