BEGIN:VCALENDAR
VERSION:2.0
PRODID:-//ChamberMaster//Event Calendar 2.0//EN
METHOD:PUBLISH
X-PUBLISHED-TTL:P3D
REFRESH-INTERVAL:P3D
CALSCALE:GREGORIAN
BEGIN:VEVENT
DTSTART:20180422T203000Z
DTEND:20180422T230000Z
X-MICROSOFT-CDO-ALLDAYEVENT:FALSE
SUMMARY:Earth Day Pilgrimage
DESCRIPTION:Come and show your support for Burns Bog and our global peatlands! Recharge your spirits while surrounded by nature and good company as we walk through the tranquil Delta Nature Reserve. Performers will sing\, drum\, and dance as we walk the boardwalk path together into the quiet cedar grove. Special guests: Aline LaFlamme and the Daughters of the Drum\, Susan Summers and the Sacred Web Singers\, & others!
X-ALT-DESC;FMTTYPE=text/html:Come and show your support for Burns Bog and our global peatlands! Recharge your spirits while surrounded by nature and good company as we walk through the tranquil Delta Nature Reserve. Performers will sing\, drum\, and dance as we walk the boardwalk path together into the quiet cedar grove. Special guests: Aline LaFlamme and the Daughters of the Drum\, Susan Summers and the Sacred Web&nbsp\;Singers\, &amp\; others!&nbsp\;
LOCATION:Delta Nature Reserve (10389 Nordel Court\, Delta BC V4G 1J9)
UID:e.749.6693
SEQUENCE:3
DTSTAMP:20260422T222947Z
URL:https://business.businessinsurrey.com/events/details/earth-day-pilgrimage-04-22-2018-6693
END:VEVENT

END:VCALENDAR
