BEGIN:VCALENDAR
VERSION:2.0
PRODID:-//ChamberMaster//Event Calendar 2.0//EN
METHOD:PUBLISH
X-PUBLISHED-TTL:P3D
REFRESH-INTERVAL:P3D
CALSCALE:GREGORIAN
BEGIN:VEVENT
DTSTART;VALUE=DATE:20150310
DTEND;VALUE=DATE:20150311
TRANSP:TRANSPARENT
X-MICROSOFT-CDO-ALLDAYEVENT:TRUE
SUMMARY:Dynamic Governance: A better way to organize your business for more effective leadership.
DESCRIPTION:CCMIS/Homestead Solutions is hosting a 6 week Dynamic Governance Study Group in Vancouver East Side from 7:00 to 9:00 PM Wednesdays from March 25th .  Participants will  learn and a concept of business operations that helps distribute leadership and leads to more effective decision making and a more harmonious work environment.  For more information visit: http://surveys.ccmis.ca/s3/Dynamic-Governance-Sociocracy
X-ALT-DESC;FMTTYPE=text/html:<p class="MsoNormal" style="margin: 0cm 0cm 0pt\;"><font face="Times New Roman"><font color="#000000" size="3">CCMIS/Homestead Solutions is hosting a 6 week </font><b><font color="#000000" size="3">Dynamic Governance Study Group</font></b><font color="#000000" size="3"> in Vancouver East Side from 7:00 to 9:00 PM&nbsp\;Wednesdays from March 25</font><sup><font color="#000000" size="2">th</font></sup><font color="#000000" size="3"> .&nbsp\; Participants will&nbsp\; learn and&nbsp\;a concept of business operations that helps distribute leadership and leads to more effective decision making and a more harmonious work environment.&nbsp\; For more information visit: </font></font><a href="http://surveys.ccmis.ca/s3/Dynamic-Governance-Sociocracy"><font color="#0000ff" face="Times New Roman" size="3">http://surveys.ccmis.ca/s3/Dynamic-Governance-Sociocracy</font></a><o:p></o:p></p>\n
LOCATION:825 Salsbury Drive in Vancouver
UID:e.749.3327
SEQUENCE:3
DTSTAMP:20260423T090958Z
URL:https://business.businessinsurrey.com/events/details/dynamic-governance-a-better-way-to-organize-your-business-for-more-effective-leadership-03-10-2015-3327
END:VEVENT

END:VCALENDAR
