BEGIN:VCALENDAR
VERSION:2.0
PRODID:-//ChamberMaster//Event Calendar 2.0//EN
METHOD:PUBLISH
X-PUBLISHED-TTL:P3D
REFRESH-INTERVAL:P3D
CALSCALE:GREGORIAN
BEGIN:VEVENT
DTSTART:20161019T150000Z
DTEND:20161019T190000Z
X-MICROSOFT-CDO-ALLDAYEVENT:FALSE
SUMMARY:Doing Business in the USA Seminar
DESCRIPTION:Join us on October 19th for a fast-paced guide to expanding your sales into the United States. Whether opening a store front with a U.S. address or partnering with a distribution centre for your eCommerce activity\, our seasoned cross-border lawyers\, accountants\, customs brokers and logistics professionals will present options that will help you determine your export strategy and understand your responsibilities with government agencies such as the U.S. Customs and Border Protection and Immigration.
X-ALT-DESC;FMTTYPE=text/html:Join us on October 19th for a fast-paced guide to expanding your sales into the United States. Whether opening a store front with a U.S. address or partnering with a distribution centre for your eCommerce activity\, our seasoned cross-border lawyers\, accountants\, customs brokers and logistics professionals will present options that will help you determine your export strategy and understand your responsibilities with government agencies such as the U.S. Customs and Border Protection and Immigration.
LOCATION:SHERATON VANCOUVER AIRPORT HOTEL 7551 Westminster Highway\, Richmond\, BC V6X 1A3 Canada
UID:e.749.5108
SEQUENCE:3
DTSTAMP:20260424T024311Z
URL:https://business.businessinsurrey.com/events/details/doing-business-in-the-usa-seminar-10-19-2016-5108
END:VEVENT

END:VCALENDAR
