BEGIN:VCALENDAR
VERSION:2.0
PRODID:-//ChamberMaster//Event Calendar 2.0//EN
METHOD:PUBLISH
X-PUBLISHED-TTL:P3D
REFRESH-INTERVAL:P3D
CALSCALE:GREGORIAN
BEGIN:VEVENT
DTSTART;VALUE=DATE:20150507
DTEND;VALUE=DATE:20150508
TRANSP:TRANSPARENT
X-MICROSOFT-CDO-ALLDAYEVENT:TRUE
SUMMARY:Doing Business in the USA Cross-Border Seminar & Professional Briefing
DESCRIPTION:Learn from trade experts how to remove border barriers\, take advantage of the exchange rate and earn up to 20% extra on your US sales. Key topics will include US Sales & Distribution Strategies\, US Customs Guidelines\, US Business Travel / Immigration and much more.
X-ALT-DESC;FMTTYPE=text/html:Learn from trade experts how to remove border barriers\, take advantage of the exchange rate and earn up to 20% extra on your US sales. Key topics will include US Sales &amp\; Distribution Strategies\, US Customs Guidelines\, US Business Travel / Immigration and much more.
LOCATION:Delta Town and Country Inn\, 6005 Highway 17A (at Highway 99)\, Delta\, BC
UID:e.749.3343
SEQUENCE:3
DTSTAMP:20260423T122436Z
URL:https://business.businessinsurrey.com/events/details/doing-business-in-the-usa-cross-border-seminar-professional-briefing-05-07-2015-3343
END:VEVENT

END:VCALENDAR
