BEGIN:VCALENDAR
VERSION:2.0
PRODID:-//ChamberMaster//Event Calendar 2.0//EN
METHOD:PUBLISH
X-PUBLISHED-TTL:P3D
REFRESH-INTERVAL:P3D
CALSCALE:GREGORIAN
BEGIN:VEVENT
DTSTART:20150409T003000Z
DTEND:20150409T023000Z
X-MICROSOFT-CDO-ALLDAYEVENT:FALSE
SUMMARY:Diversity & Inclusion Roundtable - A Journey of Inclusion
DESCRIPTION:Topic: A journey of Inclusion\, with Fiona Macfarlane\, Managing Partner\, British Columbia and Chief Inclusiveness Officer at Ernst & Young. HRMA is proud to present this roundtable that will focus on one person's journey from living within an oppressive society to evolving into an organizational leader of inclusion. Fiona will walk us through her journey of change and illustrate what an inclusiveness culture looks like at EY today. She will share openly about some of the mistakes she made and more importantly the learning she acquired from them along the way. She is also a well-known advocate for improving the representation of female directors on organizational boards. Be sure to join us for this inspiring event. Dialogue is encouraged. Bring your questions\, organization's best practices and challenges! Limited seating. You must be registered to attend.
X-ALT-DESC;FMTTYPE=text/html:Topic: A journey of Inclusion\, with Fiona Macfarlane\, Managing Partner\, British Columbia and Chief Inclusiveness Officer at Ernst &amp\; Young. HRMA is proud to present this roundtable that will focus on one person&#39\;s journey from living within an oppressive society to evolving into an organizational leader of inclusion. Fiona will walk us through her journey of change and illustrate what an inclusiveness culture looks like at EY today. She will share openly about some of the mistakes she made and more importantly the learning she acquired from them along the way. She is also a well-known advocate for improving the representation of female directors on organizational boards. Be sure to join us for this inspiring event. Dialogue is encouraged. Bring your questions\, organization&#39\;s best practices and challenges! Limited seating. You must be registered to attend.
LOCATION:Boardroom\, City Hall at 13450 104 Ave in North Surrey/City Centre.
UID:e.749.3558
SEQUENCE:3
DTSTAMP:20260423T104750Z
URL:https://business.businessinsurrey.com/events/details/diversity-inclusion-roundtable-a-journey-of-inclusion-04-08-2015-3558
END:VEVENT

END:VCALENDAR
