BEGIN:VCALENDAR
VERSION:2.0
PRODID:-//ChamberMaster//Event Calendar 2.0//EN
METHOD:PUBLISH
X-PUBLISHED-TTL:P3D
REFRESH-INTERVAL:P3D
CALSCALE:GREGORIAN
BEGIN:VEVENT
DTSTART:20161020T003000Z
DTEND:20161020T023000Z
X-MICROSOFT-CDO-ALLDAYEVENT:FALSE
SUMMARY:DIVERSEcity Immigrant Entrepreneur & Small Business Fair
DESCRIPTION:DIVERSEcity Community Resources Society and the Surrey Board of Trade are hosting the Immigrant Entrepreneur & Small Business Fair at the SFU Surrey campus on October 19\, 2016 from 5:30 pm to 7:30 pm. This free event brings together knowledgeable business professionals\, entrepreneurs\, and small business owners as they share their challenges\, triumphs and tips of starting a business in Canada. Join us and participate in the featured dialogue to gain valuable feedback on business growth\, trends in the economy and keys to success as an immigrant business owner. Program Schedule: 5:30PM Opening remarks 5:45PM Panelist shared insight with Q&A 6:30PM Exhibitor rounds 7:30PM Closing remarks
X-ALT-DESC;FMTTYPE=text/html:DIVERSEcity Community Resources Society and the Surrey Board of Trade are hosting the Immigrant Entrepreneur &amp\; Small Business Fair at the SFU Surrey campus on October 19\, 2016 from 5:30 pm to 7:30 pm. This free event brings together knowledgeable business professionals\, entrepreneurs\, and small business owners as they share their challenges\, triumphs and tips of starting a business in Canada. Join us and participate in the featured dialogue to gain valuable feedback on business growth\, trends in the economy and keys to success as an immigrant business owner. Program Schedule: 5:30PM Opening remarks 5:45PM Panelist shared insight with Q&amp\;A 6:30PM Exhibitor rounds 7:30PM Closing remarks
LOCATION:Simon Fraser University (Surrey) - Surrey\, BC V3T 0A3
UID:e.749.5125
SEQUENCE:3
DTSTAMP:20260424T024330Z
URL:https://business.businessinsurrey.com/events/details/diversecity-immigrant-entrepreneur-small-business-fair-10-19-2016-5125
END:VEVENT

END:VCALENDAR
