BEGIN:VCALENDAR
VERSION:2.0
PRODID:-//ChamberMaster//Event Calendar 2.0//EN
METHOD:PUBLISH
X-PUBLISHED-TTL:P3D
REFRESH-INTERVAL:P3D
CALSCALE:GREGORIAN
BEGIN:VEVENT
DTSTART:20101208T163000Z
DTEND:20101208T200000Z
X-MICROSOFT-CDO-ALLDAYEVENT:FALSE
SUMMARY:Disability Case Management
DESCRIPTION:The Fundamentals of Disability Case Management\n\n	 \n\n	This session will discuss roles and expectations for disability vendor relationships\, key steps in leave management and return to work programs\, strategies to maintain a healthy manager / employee relationships and support the health of the team during these cases\, and what to do when something goes wrong with a claim.\n\n	 \n\n	Date:  Wednesday\, December 8\, 2010\n\n	Time: 8:30am   12:00pm\n\n	Location: TBD\, Surrey\n\n	Fee: Non-member $210 (by Nov. 24)\, $245 (post Nov.24).  Member $135 (by Nov.24)\, $175 (post Nov.24)\n\n	Link: https://ssl.bchrma.org/content/events/ls/details.cfm?EventID=035-180
X-ALT-DESC;FMTTYPE=text/html:<div>\n	<span style="font-size:14px\;"><strong>The Fundamentals of Disability Case Management</strong></span></div>\n<div>\n	&nbsp\;</div>\n<div>\n	This session will discuss roles and expectations for disability vendor relationships\, key steps in leave management and return to work programs\, strategies to maintain a healthy manager / employee relationships and support the health of the team during these cases\, and what to do when something goes wrong with a claim.</div>\n<div>\n	&nbsp\;</div>\n<div>\n	<strong>Date</strong>: &nbsp\;Wednesday\, December 8\, 2010</div>\n<div>\n	<strong>Time</strong>: 8:30am &ndash\; 12:00pm</div>\n<div>\n	<strong>Location</strong>: TBD\, Surrey</div>\n<div>\n	<strong>Fee</strong>: Non-member $210 (by Nov. 24)\, $245 (post Nov.24). &nbsp\;Member $135 (by Nov.24)\, $175 (post Nov.24)</div>\n<div>\n	<strong>Link</strong>: <a href="https://ssl.bchrma.org/content/events/ls/details.cfm?EventID=035-180" target="_blank">https://ssl.bchrma.org/content/events/ls/details.cfm?EventID=035-180</a></div>\n
LOCATION:Location: TBD\, Surrey
UID:e.749.1710
SEQUENCE:3
DTSTAMP:20260422T103957Z
URL:https://business.businessinsurrey.com/events/details/disability-case-management-12-08-2010-1710
END:VEVENT

END:VCALENDAR
