BEGIN:VCALENDAR
VERSION:2.0
PRODID:-//ChamberMaster//Event Calendar 2.0//EN
METHOD:PUBLISH
X-PUBLISHED-TTL:P3D
REFRESH-INTERVAL:P3D
CALSCALE:GREGORIAN
BEGIN:VEVENT
DTSTART:20101209T153000Z
DTEND:20101209T173000Z
X-MICROSOFT-CDO-ALLDAYEVENT:FALSE
SUMMARY:December 9\, 2010 - Breakfast in the City
DESCRIPTION:Have breakfast and network with your fellow Board of Trade members at this popular morning event. \n\nYou can help welcome our new members and establish new contacts too\, while you learn more about some of the advantages of belonging to the Surrey Board of Trade.
X-ALT-DESC;FMTTYPE=text/html:<div>Have breakfast and network with your fellow Board of Trade members at this popular morning event. <br /><br />You can help welcome our new members and establish new contacts too\, while you learn more about some of the advantages of belonging to the Surrey Board of Trade.</div>
LOCATION:Sheraton Vancouver Guildford Hotel (15269 104th Ave\, Surrey)
UID:e.749.1636
SEQUENCE:3
DTSTAMP:20260422T080022Z
URL:https://business.businessinsurrey.com/events/details/december-9-2010-breakfast-in-the-city-12-09-2010-1636
END:VEVENT

END:VCALENDAR
