BEGIN:VCALENDAR
VERSION:2.0
PRODID:-//ChamberMaster//Event Calendar 2.0//EN
METHOD:PUBLISH
X-PUBLISHED-TTL:P3D
REFRESH-INTERVAL:P3D
CALSCALE:GREGORIAN
BEGIN:VEVENT
DTSTART:20151203T193000Z
DTEND:20151203T213000Z
X-MICROSOFT-CDO-ALLDAYEVENT:FALSE
SUMMARY:December 3\, 2015 - Business Leaders Lunch: Hon. Peter Fassbender
DESCRIPTION:With the impact of the Metro Vancouver Congestion Tax NO vote in this year's plebiscite removing a funding option for Surrey's underserved population\, we are in need of a dramatic effort to overcome the potential inertia that will cost us time\, jobs and money if we wait for a transit solution.\n\n\n\nThe Honourable Peter Fassbender\, Minister of Community\, Sport and Cultural Development and Minister Responsible for TransLink will discuss the development of Transit and Transportation in Surrey\, the Metro Vancouver region and BC.\n\n\n\nBring your questions and suggestions to this lively lunch dialogue and find out how you can benefit by supporting transportation development in Surrey.\n\nSurrey is home to 47% of the Lower Mainland's available industrial lands. We have large industrial complexes currently expanding or under development. Surrey's business community\, industrialists\, and manufacturers are on the cusp of great potential growth.
X-ALT-DESC;FMTTYPE=text/html:<div class="page" title="Page 1">\n<div class="section">\n<div class="layoutArea">\n<div class="column">\n<p>With the impact of the Metro Vancouver Congestion Tax NO vote in this year&rsquo\;s plebiscite removing a funding option for Surrey&rsquo\;s underserved population\, we are in need of a dramatic effort to overcome the potential inertia that will cost us time\, jobs and money if we wait for a transit solution.<br />\n<br />\nThe Honourable Peter Fassbender\, Minister of Community\, Sport and Cultural Development and Minister Responsible for TransLink will discuss the development of Transit and Transportation in Surrey\, the Metro Vancouver region and BC.<br />\n<br />\nBring your questions and suggestions to this lively lunch dialogue and find out how you can benefit by supporting transportation development in Surrey.</p>\n\n<p>Surrey is home to 47% of the Lower Mainland&rsquo\;s available industrial lands. We have large industrial complexes currently expanding or under development. Surrey&rsquo\;s business community\, industrialists\, and manufacturers are on the cusp of great potential growth.</p>\n</div>\n</div>\n</div>\n</div>\n
LOCATION:Eaglequest Golf Course 7778 152 Street\, Surrey
UID:e.749.3687
SEQUENCE:3
DTSTAMP:20260423T233108Z
URL:https://business.businessinsurrey.com/events/details/december-3-2015-business-leaders-lunch-hon-peter-fassbender-12-03-2015-3687
END:VEVENT

END:VCALENDAR
