BEGIN:VCALENDAR
VERSION:2.0
PRODID:-//ChamberMaster//Event Calendar 2.0//EN
METHOD:PUBLISH
X-PUBLISHED-TTL:P3D
REFRESH-INTERVAL:P3D
CALSCALE:GREGORIAN
BEGIN:VEVENT
DTSTART:20151203T010000Z
DTEND:20151203T040000Z
X-MICROSOFT-CDO-ALLDAYEVENT:FALSE
SUMMARY:December 2\, 2015 - Seasonal Sizzle Business Reception - A Disco Christmas!
DESCRIPTION:Win fabulous prizes...make business contacts.\n\nOver 500 people attend to establish business connections.\n\n\n\nThis year's theme is a Disco Christmas!\n\n\n\nExhibitor opportunities are available! Contact our events department for more information:\n\nHeather Booth\n\n604-634-0341\n\nheather@businessinsurrey.com\n\n\n\nor\n\n\n\nBrianne Colbert\n\n604-634-0347\n\nbrianne@businessinsurrey.com
X-ALT-DESC;FMTTYPE=text/html:<p>Win fabulous prizes...make business contacts.<br>\nOver 500 people attend to establish business connections.<br>\n<br>\nThis year's theme is a Disco Christmas!<br>\n<br>\nExhibitor opportunities are available! Contact our events department for more information:</p>\n\n<p>Heather Booth<br>\n604-634-0341<br>\nheather@businessinsurrey.com<br>\n<br>\nor<br>\n<br>\nBrianne Colbert<br>\n604-634-0347<br>\nbrianne@businessinsurrey.com<br>\n&nbsp\;</p>\n
LOCATION:Riverside Signature Banquet Hall (formerly India Banquet Hall) 13030 76 Avenue\, Surrey
UID:e.749.3671
SEQUENCE:3
DTSTAMP:20260423T233019Z
URL:https://business.businessinsurrey.com/events/details/december-2-2015-seasonal-sizzle-business-reception-a-disco-christmas-12-02-2015-3671
END:VEVENT

END:VCALENDAR
