BEGIN:VCALENDAR
VERSION:2.0
PRODID:-//ChamberMaster//Event Calendar 2.0//EN
METHOD:PUBLISH
X-PUBLISHED-TTL:P3D
REFRESH-INTERVAL:P3D
CALSCALE:GREGORIAN
BEGIN:VEVENT
DTSTART:20151201T153000Z
DTEND:20151201T173000Z
X-MICROSOFT-CDO-ALLDAYEVENT:FALSE
SUMMARY:December 1\, 2015 - Business and Natural Resources Dialogue: Leadership Surrey Series
DESCRIPTION:LNG and the forest industry are not the only natural resources on which the future of BC's economy resides. Renewable energy\, biodiversity\, innovations in extraction\, and more are changing what we mean by natural resource. The economic benefits of natural resources are changing\, too.\n\nSurrey is home to 47% of the Lower Mainland's available industrial lands. We have large industrial complexes currently expanding or under development. Surrey's business community\, industrialists\, and manufacturers are on the cusp of great potential growth.\n\nJoin a panel of industry experts for breakfast to find out how innovation has changed the way we do business with BC's natural abundance and what opportunities Surrey businesses have or can do to take advantage of the opportunities that exist now and may appear in the future.\n\n\n\nPanel Speakers:\n\n  Gary Herman\, CEO\, Industry Training Authority\n\n  Karina Brino\, President & CEO\, BC Mining Association\n\n  Marvin Hunt\, MLA\, Surrey- Panorama\n\n  David Bennett\, Director External Relations & Communications\, Fortis BC
X-ALT-DESC;FMTTYPE=text/html:<div class="page" title="Page 1">\n<div class="section">\n<div class="layoutArea">\n<div class="column">\n<p>LNG and the forest industry are not the only natural resources on which the future of BC&rsquo\;s economy resides. Renewable energy\, biodiversity\, innovations in extraction\, and more are changing what we mean by natural resource. The economic benefits of natural resources are changing\, too.</p>\n\n<p>Surrey is home to 47% of the Lower Mainland&rsquo\;s available industrial lands. We have large industrial complexes currently expanding or under development. Surrey&rsquo\;s business community\, industrialists\, and manufacturers are on the cusp of great potential growth.</p>\n\n<p>Join a panel of industry experts for breakfast to find out how innovation has changed the way we do business with BC&rsquo\;s natural abundance and what opportunities Surrey businesses have or can do to take advantage of the opportunities that exist now and may appear in the future.</p>\n\n<div class="layoutArea">\n<div class="column">\n<p><span style="font-weight: 700\;">Panel Speakers:<br />\n&bull\; Gary Herman\, CEO\, Industry Training Authority<br />\n&bull\; Karina Brino\, President &amp\; CEO\, BC Mining Association<br />\n&bull\; Marvin Hunt\, MLA\, Surrey- Panorama<br />\n&bull\; David Bennett\, Director External Relations &amp\; Communications\, Fortis BC </span></p>\n</div>\n</div>\n</div>\n</div>\n</div>\n</div>\n
LOCATION:Eaglequest Golf Course 7778 152 Street
UID:e.749.3686
SEQUENCE:3
DTSTAMP:20260423T232913Z
URL:https://business.businessinsurrey.com/events/details/december-1-2015-business-and-natural-resources-dialogue-leadership-surrey-series-12-01-2015-3686
END:VEVENT

END:VCALENDAR
